BEGIN:VCALENDAR
VERSION:2.0
PRODID:-//Stiften in Schleswig Holstein - ECPv6.15.17.1//NONSGML v1.0//EN
CALSCALE:GREGORIAN
METHOD:PUBLISH
X-ORIGINAL-URL:http://www.stiften-in-schleswig-holstein.de
X-WR-CALDESC:Veranstaltungen für Stiften in Schleswig Holstein
REFRESH-INTERVAL;VALUE=DURATION:PT1H
X-Robots-Tag:noindex
X-PUBLISHED-TTL:PT1H
BEGIN:VTIMEZONE
TZID:Europe/Berlin
BEGIN:DAYLIGHT
TZOFFSETFROM:+0100
TZOFFSETTO:+0200
TZNAME:CEST
DTSTART:20150329T010000
END:DAYLIGHT
BEGIN:STANDARD
TZOFFSETFROM:+0200
TZOFFSETTO:+0100
TZNAME:CET
DTSTART:20151025T010000
END:STANDARD
BEGIN:DAYLIGHT
TZOFFSETFROM:+0100
TZOFFSETTO:+0200
TZNAME:CEST
DTSTART:20160327T010000
END:DAYLIGHT
BEGIN:STANDARD
TZOFFSETFROM:+0200
TZOFFSETTO:+0100
TZNAME:CET
DTSTART:20161030T010000
END:STANDARD
BEGIN:DAYLIGHT
TZOFFSETFROM:+0100
TZOFFSETTO:+0200
TZNAME:CEST
DTSTART:20170326T010000
END:DAYLIGHT
BEGIN:STANDARD
TZOFFSETFROM:+0200
TZOFFSETTO:+0100
TZNAME:CET
DTSTART:20171029T010000
END:STANDARD
END:VTIMEZONE
BEGIN:VTIMEZONE
TZID:Europe/Paris
BEGIN:DAYLIGHT
TZOFFSETFROM:+0100
TZOFFSETTO:+0200
TZNAME:CEST
DTSTART:20150329T010000
END:DAYLIGHT
BEGIN:STANDARD
TZOFFSETFROM:+0200
TZOFFSETTO:+0100
TZNAME:CET
DTSTART:20151025T010000
END:STANDARD
BEGIN:DAYLIGHT
TZOFFSETFROM:+0100
TZOFFSETTO:+0200
TZNAME:CEST
DTSTART:20160327T010000
END:DAYLIGHT
BEGIN:STANDARD
TZOFFSETFROM:+0200
TZOFFSETTO:+0100
TZNAME:CET
DTSTART:20161030T010000
END:STANDARD
BEGIN:DAYLIGHT
TZOFFSETFROM:+0100
TZOFFSETTO:+0200
TZNAME:CEST
DTSTART:20170326T010000
END:DAYLIGHT
BEGIN:STANDARD
TZOFFSETFROM:+0200
TZOFFSETTO:+0100
TZNAME:CET
DTSTART:20171029T010000
END:STANDARD
END:VTIMEZONE
BEGIN:VEVENT
DTSTART;VALUE=DATE:20161031
DTEND;VALUE=DATE:20161105
DTSTAMP:20260421T113327
CREATED:20161031T143506Z
LAST-MODIFIED:20161031T143506Z
UID:1133-1477872000-1478303999@www.stiften-in-schleswig-holstein.de
SUMMARY:WenDo für Mädchen
DESCRIPTION:Lübeck (sish) – Sexuelle Übergriffe sind an der Tagesordnung. Die Mädchen des 8. Jahrgangs der Geschwister-Prenski-Schule hatten das Bedürfnis\, eindeutig Grenzen zu ziehen und sich zur Wehr setzen zu können. Die Michael-Haukohl-Stiftung hat daher im letzten Schuljahr einen WenDo-Kurs für eine Klasse gefördert. \nDie Mädchen äußerten sich anschließend ausnahmslos hoch zufrieden und formulierten detailliert ihren Zugewinn an Selbstbehauptung und Sicherheitsgefühl. Das Angebot ist deshalb in diesem Schuljahr auf alle vier 8. Klassen erweitert worden. Die Kurse beginnen am 31. Oktober 2016. Die Stiftung unterstützt die WenDo-Kurse mit Euro 2.400. Langfristig soll das Selbstbehauptungstraining fest in das Schulprogramm integriert werden.
URL:http://www.stiften-in-schleswig-holstein.de/termine/wendo-fuer-maedchen
END:VEVENT
BEGIN:VEVENT
DTSTART;VALUE=DATE:20161102
DTEND;VALUE=DATE:20161106
DTSTAMP:20260421T113327
CREATED:20161031T143655Z
LAST-MODIFIED:20161031T143655Z
UID:1135-1478044800-1478390399@www.stiften-in-schleswig-holstein.de
SUMMARY:Handy-Scouts
DESCRIPTION:Lübeck (sish) – Je vier Konfliktlotsen des 9. Jahrgangs der Ernestinenschule und des Katharineums fahren am 2. November 2016 für drei Tage in die Jugendakademie Bad Segeberg und werden dort zu Handy-Scouts ausgebildet. Anschließend gehen die Handy-Scouts in die 5. und 6. Klassen und arbeiten mit den Schülern am sichern Umgang mit ihren Handys. Die Michael-Haukohl-Stiftung fördert die Ausbildung mit Euro 1.600. \n 
URL:http://www.stiften-in-schleswig-holstein.de/termine/handy-scouts
ORGANIZER;CN="Michael-Haukohl-Stiftung":MAILTO:info@haukohl.org
END:VEVENT
BEGIN:VEVENT
DTSTART;VALUE=DATE:20161105
DTEND;VALUE=DATE:20161106
DTSTAMP:20260421T113327
CREATED:20160704T090222Z
LAST-MODIFIED:20160922T071428Z
UID:1010-1478304000-1478390399@www.stiften-in-schleswig-holstein.de
SUMMARY:Verleihung Stifterpreis 2016
DESCRIPTION:
URL:http://www.stiften-in-schleswig-holstein.de/termine/verleihung-stifterpreis-2016
LOCATION:Altes Stahlwerk; Business & Livestyle Hotel\, Rendsburger Str. 81\, Neumuenster\,  24537 \, Deutschland
ORGANIZER;CN="Stiftung Schleswig-Holsteiner Stiftungstag":MAILTO:hannemann(at)diakoniestiftung-sh.de
END:VEVENT
BEGIN:VEVENT
DTSTART;VALUE=DATE:20161108
DTEND;VALUE=DATE:20161109
DTSTAMP:20260421T113327
CREATED:20161019T065648Z
LAST-MODIFIED:20161019T065648Z
UID:1086-1478563200-1478649599@www.stiften-in-schleswig-holstein.de
SUMMARY:11. Kroschke Förderpreis
DESCRIPTION:
URL:http://www.stiften-in-schleswig-holstein.de/termine/11-kroschke-foerderpreis
ORGANIZER;CN="Kroschke Kinderstiftung":MAILTO:wenk(at)kinderstiftung.de
END:VEVENT
BEGIN:VEVENT
DTSTART;VALUE=DATE:20161112
DTEND;VALUE=DATE:20161121
DTSTAMP:20260421T113327
CREATED:20161115T085624Z
LAST-MODIFIED:20161115T085624Z
UID:1291-1478908800-1479686399@www.stiften-in-schleswig-holstein.de
SUMMARY:Musiktheater mit Sascha Mink
DESCRIPTION:Lübeck (sish) – Schüler für Musiktheater\, insbesondere Oper\, zu begeistern\, ist ein hartes Brot. Dem freien Dramaturgen Sascha Mink und der Lehrkraft Anne-Kristin Blöß ist es im letzten Schuljahr gelungen\, zwölf Schüler des 11. Jahrgangs der Gemeinschaftsschule St. Jürgen an Musical und Oper heranzuführen. \nDies war Anlass für die Michael-Haukohl-Stiftung\, eine Arbeitsgemeinschaft „Musiktheater mit Sascha Mink“ auch an der Schule Tremser Teich zu initiieren und finanziell zu unterstützen. Am 12. November 2016 gehen 20 Schüler nach gründlicher Vorbereitung in die großartige Inszenierung des Musicals „West Side Story“ ins Lübecker Theater. Im Laufe des Schuljahres stehen die Opern „Reise nach Reims“\, „Attila“ und „Der fliegende Holländer“ auf dem Programm\, jeweils mit Vor- und Nachbereitung sowie Besuchen der Proben und Theaterwerkstätten. Die Michael-Haukohl-Stiftung fördert die Arbeitsgemeinschaft mit Euro 5.040. 
URL:http://www.stiften-in-schleswig-holstein.de/termine/musiktheater-mit-sascha-mink
ORGANIZER;CN="Michael-Haukohl-Stiftung":MAILTO:info@haukohl.org
END:VEVENT
BEGIN:VEVENT
DTSTART;VALUE=DATE:20161114
DTEND;VALUE=DATE:20161120
DTSTAMP:20260421T113327
CREATED:20161115T085858Z
LAST-MODIFIED:20161115T085858Z
UID:1293-1479081600-1479599999@www.stiften-in-schleswig-holstein.de
SUMMARY:Gewaltpräventionskurs in Lübeck
DESCRIPTION:Lübeck (sish) – Schulkinder sind oftmals über weite Strecken allein unterwegs\, um Schule oder Elternhaus zu erreichen. In der jüngsten Vergangenheit ist es vermehrt zu unschönen Zwischenfällen auf dem Schulweg gekommen\, die die Eltern veranlasst haben\, für ihre Kinder eine Verhaltensschulung zu fordern.  \nDie Schulgemeinschaft der Kahlhorstschule hat reagiert und bietet allen 96 Kindern des 3. Jahrgangs einen Gewaltpräventionskurs durch das Hamburger Defending-Team an. Der Kurs beginnt am 14. November 2016 und dauert fünf Tage. Das Defending-Team kommt mit vier Trainern in die Schule. Der Kurs enthält einen sehr hohen Praxisanteil. Die Michael- Haukohl-Stiftung finanziert den Gewaltpräventionskurs anteilig mit Euro 880.
URL:http://www.stiften-in-schleswig-holstein.de/termine/gewaltpraeventionskurs-in-luebeck
ORGANIZER;CN="Michael-Haukohl-Stiftung":MAILTO:info@haukohl.org
END:VEVENT
BEGIN:VEVENT
DTSTART;VALUE=DATE:20161121
DTEND;VALUE=DATE:20161127
DTSTAMP:20260421T113327
CREATED:20161121T161820Z
LAST-MODIFIED:20161121T161820Z
UID:1295-1479686400-1480204799@www.stiften-in-schleswig-holstein.de
SUMMARY:Wege zur Kultur
DESCRIPTION:Lübeck (sish) – Das von der Michael-Haukohl-Stiftung initiierte Projekt „Wege zur Kultur“ soll Schüler der 3. und 4. Klassen an Kultur heranführen. Die Klassenlehrer können aus einem umfangreichen Angebot\, wie Besuchen in Museen\, Kirchen\, Kinderopern und Kinderkonzerten\, im Kinderliteraturhaus\, Künstleratelier Tiemo Schröder und im \,Archiv der Hansestadt Lübeck auswählen und die Besuche der Kultureinrichtungen über das ganze Schuljahr verteilen.  \nDie Michael-Haukohl-Stiftung übernimmt die Kosten für die Eintrittskarten und gegebenenfalls für die Führungen. Das Angebot richtet sich an alle Lübecker Grundschulen. Folgende Schulen haben sich im Schuljahr 2016 / 2017 bereits auf „Wege zur Kultur“ gemacht: Domschule\, Schule Falkenfeld\, Paul-Gerhardt-Schule\, Paul-Klee-Schule\, Julius-Leber-Schule\, Marienschule und die Schule an der Wakenitz.     
URL:http://www.stiften-in-schleswig-holstein.de/termine/wege-zur-kultur-3
ORGANIZER;CN="Michael-Haukohl-Stiftung":MAILTO:info@haukohl.org
END:VEVENT
BEGIN:VEVENT
DTSTART;VALUE=DATE:20161121
DTEND;VALUE=DATE:20161126
DTSTAMP:20260421T113327
CREATED:20161121T162021Z
LAST-MODIFIED:20161121T162021Z
UID:1297-1479686400-1480118399@www.stiften-in-schleswig-holstein.de
SUMMARY:Deutsches Auswandererhaus
DESCRIPTION:Bremerhaven/Lübeck (sish) – Der 8. Jahrgang der Schule Tremser Teich führt im November 2016 eine Projektwoche zum Thema USA durch. Jedes Schulfach ist in das Projekt involviert. Den Abschluss bildet eine Kurzklassenreise vom 24. bis 25. November 2016 nach Bremerhaven und der Besuche des Deutschen Auswandererhauses.  \nEs liegt an einem historischen Standort am Neuen Hafen\, der 1852 eröffnet wurde und von dem bis 1890 knapp 1\,2 Millionen Menschen in die Neue Welt aufbrachen. Die Besucher des Migrationsmuseums nehmen die Identität einer tatsächlich ausgewanderten Person an und begeben sich auf eine historische Zeitreise. Dabei tauchen sie inmitten detailgetreuer Rekonstruktionen originaler Orte und Schauplätze in die Welt der Aus- und Einwanderung ein. Die Michael-Haukohl-Stiftung unterstützt die Reise der 74 Schüler nach Bremerhaven mit Euro 1.380.   
URL:http://www.stiften-in-schleswig-holstein.de/termine/deutsches-auswandererhaus
ORGANIZER;CN="Michael-Haukohl-Stiftung":MAILTO:info@haukohl.org
END:VEVENT
END:VCALENDAR