BEGIN:VCALENDAR
VERSION:2.0
PRODID:-//Stiften in Schleswig Holstein - ECPv6.15.17.1//NONSGML v1.0//EN
CALSCALE:GREGORIAN
METHOD:PUBLISH
X-ORIGINAL-URL:http://www.stiften-in-schleswig-holstein.de
X-WR-CALDESC:Veranstaltungen für Stiften in Schleswig Holstein
REFRESH-INTERVAL;VALUE=DURATION:PT1H
X-Robots-Tag:noindex
X-PUBLISHED-TTL:PT1H
BEGIN:VTIMEZONE
TZID:Europe/Paris
BEGIN:DAYLIGHT
TZOFFSETFROM:+0100
TZOFFSETTO:+0200
TZNAME:CEST
DTSTART:20150329T010000
END:DAYLIGHT
BEGIN:STANDARD
TZOFFSETFROM:+0200
TZOFFSETTO:+0100
TZNAME:CET
DTSTART:20151025T010000
END:STANDARD
BEGIN:DAYLIGHT
TZOFFSETFROM:+0100
TZOFFSETTO:+0200
TZNAME:CEST
DTSTART:20160327T010000
END:DAYLIGHT
BEGIN:STANDARD
TZOFFSETFROM:+0200
TZOFFSETTO:+0100
TZNAME:CET
DTSTART:20161030T010000
END:STANDARD
BEGIN:DAYLIGHT
TZOFFSETFROM:+0100
TZOFFSETTO:+0200
TZNAME:CEST
DTSTART:20170326T010000
END:DAYLIGHT
BEGIN:STANDARD
TZOFFSETFROM:+0200
TZOFFSETTO:+0100
TZNAME:CET
DTSTART:20171029T010000
END:STANDARD
END:VTIMEZONE
BEGIN:VEVENT
DTSTART;VALUE=DATE:20160411
DTEND;VALUE=DATE:20160412
DTSTAMP:20260421T205529
CREATED:20160411T153543Z
LAST-MODIFIED:20160411T153543Z
UID:917-1460332800-1460419199@www.stiften-in-schleswig-holstein.de
SUMMARY:Schule gegen Jugendgewalt
DESCRIPTION:Lübeck (sish) – Gewalt ist ein großes Thema an allen Schulen. Gewaltprävention ist daher zwingend erforderlich und bedarf ständiger Beschäftigung. An der Julius-Leber-Schule wird ein Polizeihauptkommissar a.D. nach den Osterferien in jeder Klasse der Jahrgänge 5 bis 9 (18 Klassen) ein Anti-Gewalttraining starten. Sollte dies Pilotprojekt erfolgreich verlaufen\, wird das Training im Schuljahr 2016/2017 in vier Doppelstunden pro Klasse der Jahrgänge 5 bis 9 durchgeführt werden. Die Michael-Haukohl-Stiftung fördert das Pilotprojekt mit Euro 1.260.
URL:http://www.stiften-in-schleswig-holstein.de/termine/schule-gegen-jugendgewalt
END:VEVENT
BEGIN:VEVENT
DTSTART;VALUE=DATE:20160412
DTEND;VALUE=DATE:20160413
DTSTAMP:20260421T205529
CREATED:20160411T153811Z
LAST-MODIFIED:20160411T154636Z
UID:918-1460419200-1460505599@www.stiften-in-schleswig-holstein.de
SUMMARY:Camera Obscura
DESCRIPTION:Lübeck (sish) – Fotos mit einem Handy zu machen\, ist kinderleicht. Aber wie entsteht eigentlich ein Foto? Dies zeigt der Künstler Ilan Wollf allen 73 Schülern des 7. Jahrgangs der Schule Tremser Teich vom 12. bis zum 22. April 2016. Die Schüler bauen Lochkameras\, fotografieren auf klassische Weise\, entwickeln Negative\, wandeln diese in Positive um und kolorieren sie per Hand. Die schönsten Fotos werden in den Klassen- und Gemeinschaftsräumen der Schule ausgehängt. Die Stiftung fördert das Projekt mit Euro 1.909.
URL:http://www.stiften-in-schleswig-holstein.de/termine/camera-obscura-2
LOCATION:Unbenannter Veranstaltungsort\, Lübeck
ORGANIZER;CN="Michael-Haukohl-Stiftung":MAILTO:info@haukohl.org
END:VEVENT
BEGIN:VEVENT
DTSTART;VALUE=DATE:20160414
DTEND;VALUE=DATE:20160415
DTSTAMP:20260421T205529
CREATED:20160411T154824Z
LAST-MODIFIED:20160411T154824Z
UID:920-1460592000-1460678399@www.stiften-in-schleswig-holstein.de
SUMMARY:Shakespeare-Lecture
DESCRIPTION:Lübeck (sish) – Nach dem Besuch des Stückes „The Tempest“ von William Shakespeare – aufgeführt am 23. Februar 2016 von der American Drama Group – besuchen die Schüler des WPU-Kurses Englisch der Emanuel-Geibel-Schule am 14. April 2016 die Shakespeare-Lecture von Patrick Spottiswoode im Großen Haus des Theaters Lübeck. Spottiswoode lässt die Schüler Shakespeares Theater sinnlich erleben. Durch sein Spiel mit englischer Sprache\, Körper\, Mimik und Gestik führt er die Schüler an Shakesperes Theater und Sprachkunst heran\, und das ganz unverkrampft und spannend. Die Stiftung übernimmt 70% der Kosten für die Eintrittskarten der Schüler. \n 
URL:http://www.stiften-in-schleswig-holstein.de/termine/shakespeare-lecture
LOCATION:Unbenannter Veranstaltungsort\, Lübecxk
END:VEVENT
BEGIN:VEVENT
DTSTART;VALUE=DATE:20160425
DTEND;VALUE=DATE:20160426
DTSTAMP:20260421T205529
CREATED:20160425T074106Z
LAST-MODIFIED:20160425T074106Z
UID:923-1461542400-1461628799@www.stiften-in-schleswig-holstein.de
SUMMARY:Deutsche Schulschachmeisterschaften
DESCRIPTION:Lübeck (sish) – Drei Lübecker Schulen nehmen an den Deutschen  Schulschachmeisterschaften 2016 teil: Die Schule Lauerholz und die Paul-Gerhardt-Schule fahren zum Turnier für Grundschulen nach Friedrichroda in Thüringen. Die GGS St. Jürgen nach Pfullingen zur Meisterschaft für weiterführende Schulen. Die Michael-Haukohl-Stiftung fördert die Teilnahme mit insgesamt Euro 2.240.
URL:http://www.stiften-in-schleswig-holstein.de/termine/deutsche-schulschachmeisterschaften
END:VEVENT
BEGIN:VEVENT
DTSTART;VALUE=DATE:20160427
DTEND;VALUE=DATE:20160428
DTSTAMP:20260421T205529
CREATED:20160425T074226Z
LAST-MODIFIED:20160425T074226Z
UID:924-1461715200-1461801599@www.stiften-in-schleswig-holstein.de
SUMMARY:Wege zur Kultur
DESCRIPTION:Lübeck (sish) – Schüler der 3. und 4. Klassen der Paul-Klee-Schule nehmen im 2. Schulhalbjahr 2015/2016 an dem von der Michael-Haukohl-Stiftung initiierten Projekt „Wege zur Kultur“ teil. Im Rahmen dieses Projektes besuchen 228 Kinder am 27. April 2016 das Kinderkonzert „Mozart – Wunderkind und Kinderstar“ im Großen Haus des Theaters Lübeck. Die Michael-Haukohl-Stiftung bezuschusst die Eintrittskarten mit Euro 1.163.
URL:http://www.stiften-in-schleswig-holstein.de/termine/wege-zur-kultur
END:VEVENT
BEGIN:VEVENT
DTSTART;VALUE=DATE:20160428
DTEND;VALUE=DATE:20160429
DTSTAMP:20260421T205529
CREATED:20160425T074319Z
LAST-MODIFIED:20160425T074319Z
UID:925-1461801600-1461887999@www.stiften-in-schleswig-holstein.de
SUMMARY:Integrativer Kochkurs
DESCRIPTION:Lübeck (sish) – Schüler der DaZ-Klasse (Deutsch als Zweisprache) und Schüler der Regelklasse der Holstentor-Gemeinschaftsschule gehen gemeinsam einkaufen\, kochen zusammen in der Lehrküche und essen zusammen in der 6. Schulstunde. Durch dieses integrative Projekt sollen Werte vermittelt werden\, wie Benehmen bei Tisch\, Verhalten bei Konflikten\, Rolle der Frau\, Verantwortungsbewusstsein und Selbstständigkeit. Die Michael-Haukohl-Stiftung bezuschusst den Kochkurs\, der bis zu den Sommerferien läuft\, mit Euro 882.
URL:http://www.stiften-in-schleswig-holstein.de/termine/integrativer-kochkurs
END:VEVENT
END:VCALENDAR