BEGIN:VCALENDAR
VERSION:2.0
PRODID:-//Stiften in Schleswig Holstein - ECPv6.15.17.1//NONSGML v1.0//EN
CALSCALE:GREGORIAN
METHOD:PUBLISH
X-WR-CALNAME:Stiften in Schleswig Holstein
X-ORIGINAL-URL:http://www.stiften-in-schleswig-holstein.de
X-WR-CALDESC:Veranstaltungen für Stiften in Schleswig Holstein
REFRESH-INTERVAL;VALUE=DURATION:PT1H
X-Robots-Tag:noindex
X-PUBLISHED-TTL:PT1H
BEGIN:VTIMEZONE
TZID:Europe/Paris
BEGIN:DAYLIGHT
TZOFFSETFROM:+0100
TZOFFSETTO:+0200
TZNAME:CEST
DTSTART:20150329T010000
END:DAYLIGHT
BEGIN:STANDARD
TZOFFSETFROM:+0200
TZOFFSETTO:+0100
TZNAME:CET
DTSTART:20151025T010000
END:STANDARD
BEGIN:DAYLIGHT
TZOFFSETFROM:+0100
TZOFFSETTO:+0200
TZNAME:CEST
DTSTART:20160327T010000
END:DAYLIGHT
BEGIN:STANDARD
TZOFFSETFROM:+0200
TZOFFSETTO:+0100
TZNAME:CET
DTSTART:20161030T010000
END:STANDARD
BEGIN:DAYLIGHT
TZOFFSETFROM:+0100
TZOFFSETTO:+0200
TZNAME:CEST
DTSTART:20170326T010000
END:DAYLIGHT
BEGIN:STANDARD
TZOFFSETFROM:+0200
TZOFFSETTO:+0100
TZNAME:CET
DTSTART:20171029T010000
END:STANDARD
END:VTIMEZONE
BEGIN:VEVENT
DTSTART;VALUE=DATE:20160126
DTEND;VALUE=DATE:20160320
DTSTAMP:20260421T221224
CREATED:20160127T181847Z
LAST-MODIFIED:20160222T155125Z
UID:830-1453766400-1458431999@www.stiften-in-schleswig-holstein.de
SUMMARY:AG Musiktheater
DESCRIPTION:Lübeck (sish) – Am 26. Januar 2016 startet die AG Musiktheater an der GGS St. Jürgen mit der Behandlung des Musicals „West Side Story“ von Leonard Bernstein. Die AG-Leiterin Frau Anne-Kristin Blöß und der freie Regisseur und Schauspieler Sascha Mink werden die Schüler des 10. und 11 Jahrgangs in mehreren Einheiten an das Musikstück heranführen\, ihnen Choreographie und Gesang durch Gastreferenten nahebringen und die Aufführung im Theater Lübeck am 19. März 2016 besuchen. Danach folgt die Behandlung der Oper „Lady Macbeth vom Mzensk“ von Dmitri Schostakowitsch. Die Stiftung fördert die AG mit Euro 4.350.
URL:http://www.stiften-in-schleswig-holstein.de/termine/michael-haukohl-stiftung-ag-musiktheater
ORGANIZER;CN="Michael-Haukohl-Stiftung":MAILTO:info@haukohl.org
END:VEVENT
BEGIN:VEVENT
DTSTART;VALUE=DATE:20160206
DTEND;VALUE=DATE:20160306
DTSTAMP:20260421T221224
CREATED:20160208T151245Z
LAST-MODIFIED:20160222T155041Z
UID:854-1454716800-1457222399@www.stiften-in-schleswig-holstein.de
SUMMARY:Rhetorik-Seminar
DESCRIPTION:23 Schüler der Lübecker Gymnasien starten am Sonnabend  den 6. Februar 2016 eine von der Michael-Haukohl-Stiftung organisierte Rhetorik-Ausbildung\, die an den folgenden drei Wochenenden ihre Fortsetzung findet. Den Abschluss bildet dann am 5. März 2016 im Bürgerschaftssaal des Rathauses die Debattiermeisterschaft\, die in diesem Jahr bereits zum vierten Mal ausgetragen wird.
URL:http://www.stiften-in-schleswig-holstein.de/termine/michael-haukohl-stiftung-rhetorik-seminar
ORGANIZER;CN="Michael-Haukohl-Stiftung":MAILTO:info@haukohl.org
END:VEVENT
BEGIN:VEVENT
DTSTART;TZID=Europe/Paris:20160301T100000
DTEND;TZID=Europe/Paris:20160301T120000
DTSTAMP:20260421T221224
CREATED:20160229T084020Z
LAST-MODIFIED:20160229T084020Z
UID:895-1456826400-1456833600@www.stiften-in-schleswig-holstein.de
SUMMARY:Medien-Info: Reise ins Instrumentenland
DESCRIPTION:Lübeck (sish) – Aus Anlass der Verleihung des Primus-Preises für das Projekt „Reise ins Instrumentenland“ lädt die Michael-Haukohl-Stiftung ein zu einem Pressetermin am 01. März 2016 um 10.00 Uhr in die Kita Bugenhagen I\, Rademacherstraße 19\, 23556 Lübeck. Die Geigerin Sylvia Leroux wird den Kita-Kindern ihr Instrument vorstellen und mit den Kindern musizieren. Anschließend stellen sich Frau Leroux\, Frau Prasuhn (Kitaleiterin)\, Frau Möller und Frau Dürkop (Projektleierinnen) sowie Vertreter der Stiftung den Fragen der Presse. Näheres unter www.reise-ins-instrumentenland.de.
URL:http://www.stiften-in-schleswig-holstein.de/termine/medien-info-reise-ins-instrumentenland
LOCATION:Kita Bugenhagen 1\, Rademacherstraße 19\, Lübeck\, Schleswig-Holstein\, 23556\, Deutschland
ORGANIZER;CN="Michael-Haukohl-Stiftung":MAILTO:info@haukohl.org
END:VEVENT
BEGIN:VEVENT
DTSTART;VALUE=DATE:20160305
DTEND;VALUE=DATE:20160306
DTSTAMP:20260421T221224
CREATED:20160229T084139Z
LAST-MODIFIED:20160229T084139Z
UID:897-1457136000-1457222399@www.stiften-in-schleswig-holstein.de
SUMMARY:Die Katze auf dem heißen Blechdach
DESCRIPTION:Lübeck (sish) – Schüler der neu eingerichteten Oberstufe der Grund- und Gemeinschaftsschule St. Jürgen besuchen am 5. März 2016 „Die Katze auf dem heißen Blechdach“ von Tennessee Williams in den Kammerspielen des Theaters Lübeck. Die Michael-Haukohl-Stiftung übernimmt einen Teil der Kosten für die Eintrittskarten.
URL:http://www.stiften-in-schleswig-holstein.de/termine/die-katze-auf-dem-heissen-blechdach
ORGANIZER;CN="Michael-Haukohl-Stiftung":MAILTO:info@haukohl.org
END:VEVENT
BEGIN:VEVENT
DTSTART;VALUE=DATE:20160307
DTEND;VALUE=DATE:20160312
DTSTAMP:20260421T221224
CREATED:20160307T144353Z
LAST-MODIFIED:20160307T144353Z
UID:905-1457308800-1457740799@www.stiften-in-schleswig-holstein.de
SUMMARY:Camera obscura
DESCRIPTION:Lübeck (sish) – Wenn der Fotokünstler Ilan Wolff mit seiner Camera obscura in die Lübecker Schulen kommt\, ruft er bei den Schülern große Begeisterung hervor. In der Woche vom 7. bis 11. März 2016 führt Ilan Wollf zwei Workshops von je 2 ½ Tagen für die beiden Klassen des 10. Jahrgangs der Schule an der Wakenitz durch. Die Schüler bauen Lochkameras\, fotografieren auf klassische Weise\, entwickeln Negative\, wandeln diese in Positive um und kolorieren sie per Hand. Die schönsten Fotos werden in den Klassen- und Gemeinschaftsräumen der Schule aufgehängt. Die Stiftung fördert die beiden Workshops mit Euro 1.630.
URL:http://www.stiften-in-schleswig-holstein.de/termine/camera-obscura
ORGANIZER;CN="Michael-Haukohl-Stiftung":MAILTO:info@haukohl.org
END:VEVENT
BEGIN:VEVENT
DTSTART;VALUE=DATE:20160307
DTEND;VALUE=DATE:20160312
DTSTAMP:20260421T221224
CREATED:20160307T144458Z
LAST-MODIFIED:20160307T144458Z
UID:906-1457308800-1457740799@www.stiften-in-schleswig-holstein.de
SUMMARY:English in Action
DESCRIPTION:Lübeck (sish) – Vom 7. bis 11. März 2016 führen neun Lehrkräfte aus Großbritannien\, die kein Wort Deutsch sprechen\, einen Intensivsprachkurs mit allen 228 Schülern des 9. und 10. Jahrgangs der GGS St. Jürgen durch. „5 Tage lang\, jeweils 5 Stunden nur Englisch“ lautet das Motto. Der Crashkurs dient als Vorbereitung auf die mündlichen Prüfungen des Ersten und Mittleren Schulabschlusses (früher Haupt- und Realschulabschluss). Die Michael-Haukohl-Stiftung fördert das Projekt mit Euro 7.680.
URL:http://www.stiften-in-schleswig-holstein.de/termine/english-in-action
ORGANIZER;CN="Michael-Haukohl-Stiftung":MAILTO:info@haukohl.org
END:VEVENT
BEGIN:VEVENT
DTSTART;VALUE=DATE:20160314
DTEND;VALUE=DATE:20160317
DTSTAMP:20260421T221224
CREATED:20160314T180747Z
LAST-MODIFIED:20160314T180747Z
UID:908-1457913600-1458172799@www.stiften-in-schleswig-holstein.de
SUMMARY:Liebe\, Freundschaft\, Sexualität
DESCRIPTION:Lübeck (sish) — Im Schuljahr 2015/2016 nehmen Schüler des 6. und 7. Jahrgangs der Schule an der Wakenitz an dem Aufklärungs- und Präventionsprojekt „Liebe\, Freundschaft\, Sexualität“ teil. Ein erfahrenes sexualpädagogisches Frau-Mann-Team von pro familia kommt in die Schule. Die Kurse finden in Abwesenheit der Lehrkräfte statt\, zeitweise in geschlechtshomogenen Gruppen. Vom 14. bis 16. März 2016 besuchen die Pädagogen die Klasse 6a. Die Michael-Haukohl-Stiftung unterstützt jeden Kurs mit Euro 390.
URL:http://www.stiften-in-schleswig-holstein.de/termine/liebe-freundschaft-sexualitaet
ORGANIZER;CN="Michael-Haukohl-Stiftung":MAILTO:info@haukohl.org
END:VEVENT
BEGIN:VEVENT
DTSTART;TZID=Europe/Paris:20160314T080000
DTEND;TZID=Europe/Paris:20160314T170000
DTSTAMP:20260421T221224
CREATED:20160314T180858Z
LAST-MODIFIED:20160314T180858Z
UID:909-1457942400-1457974800@www.stiften-in-schleswig-holstein.de
SUMMARY:Fahrt nach London
DESCRIPTION:Lübeck (sish) – Die Englandfahrt des 10. Jahrgangs ist seit vielen Jahren Tradition an der Schule Tremser Teich. So reisen auch dieses Jahr alle 41 Schüler des Abschlussjahrgangs vom 14. März 2016 für fünf Tage nach London. Die Michael-Haukohl-Stiftung fördert die Studienfahrt zum wiederholten Mal\, dieses Jahr mit Euro 4.100.
URL:http://www.stiften-in-schleswig-holstein.de/termine/fahrt-nach-london
END:VEVENT
END:VCALENDAR