BEGIN:VCALENDAR
VERSION:2.0
PRODID:-//Stiften in Schleswig Holstein - ECPv6.15.17.1//NONSGML v1.0//EN
CALSCALE:GREGORIAN
METHOD:PUBLISH
X-WR-CALNAME:Stiften in Schleswig Holstein
X-ORIGINAL-URL:http://www.stiften-in-schleswig-holstein.de
X-WR-CALDESC:Veranstaltungen für Stiften in Schleswig Holstein
REFRESH-INTERVAL;VALUE=DURATION:PT1H
X-Robots-Tag:noindex
X-PUBLISHED-TTL:PT1H
BEGIN:VTIMEZONE
TZID:Europe/Paris
BEGIN:DAYLIGHT
TZOFFSETFROM:+0100
TZOFFSETTO:+0200
TZNAME:CEST
DTSTART:20150329T010000
END:DAYLIGHT
BEGIN:STANDARD
TZOFFSETFROM:+0200
TZOFFSETTO:+0100
TZNAME:CET
DTSTART:20151025T010000
END:STANDARD
BEGIN:DAYLIGHT
TZOFFSETFROM:+0100
TZOFFSETTO:+0200
TZNAME:CEST
DTSTART:20160327T010000
END:DAYLIGHT
BEGIN:STANDARD
TZOFFSETFROM:+0200
TZOFFSETTO:+0100
TZNAME:CET
DTSTART:20161030T010000
END:STANDARD
BEGIN:DAYLIGHT
TZOFFSETFROM:+0100
TZOFFSETTO:+0200
TZNAME:CEST
DTSTART:20170326T010000
END:DAYLIGHT
BEGIN:STANDARD
TZOFFSETFROM:+0200
TZOFFSETTO:+0100
TZNAME:CET
DTSTART:20171029T010000
END:STANDARD
END:VTIMEZONE
BEGIN:VEVENT
DTSTART;VALUE=DATE:20160126
DTEND;VALUE=DATE:20160320
DTSTAMP:20260421T233528
CREATED:20160127T181847Z
LAST-MODIFIED:20160222T155125Z
UID:830-1453766400-1458431999@www.stiften-in-schleswig-holstein.de
SUMMARY:AG Musiktheater
DESCRIPTION:Lübeck (sish) – Am 26. Januar 2016 startet die AG Musiktheater an der GGS St. Jürgen mit der Behandlung des Musicals „West Side Story“ von Leonard Bernstein. Die AG-Leiterin Frau Anne-Kristin Blöß und der freie Regisseur und Schauspieler Sascha Mink werden die Schüler des 10. und 11 Jahrgangs in mehreren Einheiten an das Musikstück heranführen\, ihnen Choreographie und Gesang durch Gastreferenten nahebringen und die Aufführung im Theater Lübeck am 19. März 2016 besuchen. Danach folgt die Behandlung der Oper „Lady Macbeth vom Mzensk“ von Dmitri Schostakowitsch. Die Stiftung fördert die AG mit Euro 4.350.
URL:http://www.stiften-in-schleswig-holstein.de/termine/michael-haukohl-stiftung-ag-musiktheater
ORGANIZER;CN="Michael-Haukohl-Stiftung":MAILTO:info@haukohl.org
END:VEVENT
BEGIN:VEVENT
DTSTART;VALUE=DATE:20160201
DTEND;VALUE=DATE:20160301
DTSTAMP:20260421T233528
CREATED:20160201T090722Z
LAST-MODIFIED:20160201T090722Z
UID:850-1454284800-1456790399@www.stiften-in-schleswig-holstein.de
SUMMARY:Michael-Haukohl-Stiftung: Jahresbericht 2015
DESCRIPTION:Der Jahresbericht 2015 steht auf dieser Webseite in der Rubrik „Downloads“ und kann dort heruntergeladen werden: Link
URL:http://www.stiften-in-schleswig-holstein.de/termine/michael-haukohl-stiftung-jahresbericht-2015
END:VEVENT
BEGIN:VEVENT
DTSTART;VALUE=DATE:20160204
DTEND;VALUE=DATE:20160205
DTSTAMP:20260421T233528
CREATED:20160201T090913Z
LAST-MODIFIED:20160201T090913Z
UID:851-1454544000-1454630399@www.stiften-in-schleswig-holstein.de
SUMMARY:Michael-Haukohl-Stiftung: BallinStadt – Das Auswanderermuseum
DESCRIPTION:Lübeck (sish) – Die Klasse 9a der Schule an der Wakenitz hat sich intensiv mit der Auswanderungsbewegung im 19. Jahrhundert auseinandergesetzt und dabei immer wieder Bezüge zur aktuellen Flüchtlingssituation im Stadtteil Eichholz hergestellt. Zum Abschluss fahren die Schüler nach Hamburg in das Erlebnismuseum BallinStadt und nehmen dort im Rahmen des Spiels „Simmigrants“ eine virtuelle Auswandereridentität ein\, um sich so die Inhalte der Ausstellung zu erarbeiten. Die Michael-Haukohl-Stiftung übernimmt einen Teil der Fahrt- und Eintrittskosten.
URL:http://www.stiften-in-schleswig-holstein.de/termine/michael-haukohl-stiftung-ballinstadt-das-auswanderermuseum
END:VEVENT
BEGIN:VEVENT
DTSTART;VALUE=DATE:20160206
DTEND;VALUE=DATE:20160207
DTSTAMP:20260421T233528
CREATED:20160201T091031Z
LAST-MODIFIED:20160201T091031Z
UID:852-1454716800-1454803199@www.stiften-in-schleswig-holstein.de
SUMMARY:Michael-Haukohl-Stiftung: DELF
DESCRIPTION:Lübeck (sish) – DELF steht für Diplôme d’études de langue francaise und ist ein Zertifikat für eine erfolgreiche Prüfung im Fach Französisch. Erstmalig nehmen Schüler des Wahlpflichtkurses Französisch der Emanuel-Geibel-Schule an der Prüfung für diese Zusatzqualifikation teil. Die Prüfung findet am Sonnabend\, d. 06. Februar 2016 statt. Die Prüfungsgebühren werden von der Stiftung übernommen
URL:http://www.stiften-in-schleswig-holstein.de/termine/michael-haukohl-stiftung-delf
ORGANIZER;CN="Michael-Haukohl-Stiftung":MAILTO:info@haukohl.org
END:VEVENT
BEGIN:VEVENT
DTSTART;VALUE=DATE:20160206
DTEND;VALUE=DATE:20160306
DTSTAMP:20260421T233528
CREATED:20160208T151245Z
LAST-MODIFIED:20160222T155041Z
UID:854-1454716800-1457222399@www.stiften-in-schleswig-holstein.de
SUMMARY:Rhetorik-Seminar
DESCRIPTION:23 Schüler der Lübecker Gymnasien starten am Sonnabend  den 6. Februar 2016 eine von der Michael-Haukohl-Stiftung organisierte Rhetorik-Ausbildung\, die an den folgenden drei Wochenenden ihre Fortsetzung findet. Den Abschluss bildet dann am 5. März 2016 im Bürgerschaftssaal des Rathauses die Debattiermeisterschaft\, die in diesem Jahr bereits zum vierten Mal ausgetragen wird.
URL:http://www.stiften-in-schleswig-holstein.de/termine/michael-haukohl-stiftung-rhetorik-seminar
ORGANIZER;CN="Michael-Haukohl-Stiftung":MAILTO:info@haukohl.org
END:VEVENT
BEGIN:VEVENT
DTSTART;VALUE=DATE:20160211
DTEND;VALUE=DATE:20160212
DTSTAMP:20260421T233528
CREATED:20160208T151447Z
LAST-MODIFIED:20160208T151521Z
UID:855-1455148800-1455235199@www.stiften-in-schleswig-holstein.de
SUMMARY:Konfliktlotsen
DESCRIPTION:An der Lübecker Schule Tremser Teich hat Konfliktlösung durch Schüler einen sehr hohen Stellenwert. Dieses Jahr nehmen 18 Schüler an der Ausbildung zum Konfliktlotsen teil und fahren zum Abschluss für zwei Tage in die Jugendherberge nach Lübeck\, um sich dort den letzten Schliff zu holen. Die Michael-Haukohl-Stiftung unterstützt die Ausbildung der Konfliktlotsen seit Jahren\, in diesem Jahr mit Euro 360.
URL:http://www.stiften-in-schleswig-holstein.de/termine/konfliktlosen
ORGANIZER;CN="Michael-Haukohl-Stiftung":MAILTO:info@haukohl.org
END:VEVENT
BEGIN:VEVENT
DTSTART;VALUE=DATE:20160212
DTEND;VALUE=DATE:20160213
DTSTAMP:20260421T233528
CREATED:20160208T151657Z
LAST-MODIFIED:20160208T151657Z
UID:856-1455235200-1455321599@www.stiften-in-schleswig-holstein.de
SUMMARY:9. Lübecker Schachturnier für Schulmannschaften
DESCRIPTION:Über 100 Mannschaften mit mehr als 400 Schülern werden sich am Freitag\, den 12. Februar 2016 in der Musik- und Kongresshalle (MuK) versammeln\, um an der Lübecker Schachmeisterschaft teilzunehmen. Schirmherrin ist Senatorin Kathrin Weiher\, Veranstalter der Lübecker Schachverein von 1873 e.V. (LSV). Die Turnierleitung liegt in den bewährten Händen von Schachlehrer Michael Weiss. Die Michael-Haukohl-Stiftung fördert Schach an Schulen und im LSV seit 2009.
URL:http://www.stiften-in-schleswig-holstein.de/termine/9-luebecker-schachturnier-fuer-schulmannschaften
ORGANIZER;CN="Michael-Haukohl-Stiftung":MAILTO:info@haukohl.org
END:VEVENT
BEGIN:VEVENT
DTSTART;VALUE=DATE:20160216
DTEND;VALUE=DATE:20160217
DTSTAMP:20260421T233528
CREATED:20160216T093635Z
LAST-MODIFIED:20160216T093635Z
UID:883-1455580800-1455667199@www.stiften-in-schleswig-holstein.de
SUMMARY:Primus-Preis: Reise ins Instrumentenland
DESCRIPTION:Die Stiftung Bildung und Gesellschaft verleiht dem Projekt „Die Reise ins Instrumentenland“ der Michael-Haukohl-Stiftung den Primus-Preis im Februar 2016. Zitat aus der Begründung der Jury: „Das kindgerechte Konzept der musikalischen Entdeckungsreise ist beispielhaft. Das Projekt erleichtert es den Kindern\, in die Welt der Musik und Kunst einzusteigen. Ihre musikalischen und künstlerischen Fähigkeiten werden auf spielerische Weise gefördert.“ Der Primus-Preis ist mit 1.000 Euro dotiert. Information über das Projekt unter www.reise-ins-instrumentenland.de
URL:http://www.stiften-in-schleswig-holstein.de/termine/primus-preis-reise-ins-instrumentenland
ORGANIZER;CN="Michael-Haukohl-Stiftung":MAILTO:info@haukohl.org
END:VEVENT
BEGIN:VEVENT
DTSTART;VALUE=DATE:20160222
DTEND;VALUE=DATE:20160227
DTSTAMP:20260421T233528
CREATED:20160222T154910Z
LAST-MODIFIED:20160222T154910Z
UID:890-1456099200-1456531199@www.stiften-in-schleswig-holstein.de
SUMMARY:Pilotprojekt: Ausgrenzung und Zivilcourage
DESCRIPTION:Lübeck (sish) – Drei Klassen des 12. Jahrgangs der Geschwister-Prenski-Schule nehmen vom 22. bis 26. Februar 2016 an einem Pilotprojekt zum Thema Ausgrenzung und Zivilcourage mit einer Stadtführung zu Widerstand und Verfolgung\, Besuchen der Gedenkstätten Lübecker Märtyrer in der Herz-Jesu- und Luther-Kirche sowie einem Modul über konkrete Handlungsmöglichkeiten bei Konfrontation mit Ausgrenzung teil. Wenn das Projekt von den Schulklassen angenommen wird\, soll es zukünftig durch Eigenbeteiligung der Schulen & Schüler finanziert werden. Die Michael-Haukohl-Stiftung unterstützt das Pilotprojekt mit Euro 530.
URL:http://www.stiften-in-schleswig-holstein.de/termine/ausgrenzung-und-zivilcourage
LOCATION:Geschwister-Prenski-Schule\, Lübeck\, Schleswig-Holstein\, Deutschland
ORGANIZER;CN="Michael-Haukohl-Stiftung":MAILTO:info@haukohl.org
END:VEVENT
BEGIN:VEVENT
DTSTART;VALUE=DATE:20160223
DTEND;VALUE=DATE:20160224
DTSTAMP:20260421T233528
CREATED:20160222T155239Z
LAST-MODIFIED:20160222T155239Z
UID:892-1456185600-1456271999@www.stiften-in-schleswig-holstein.de
SUMMARY:The Tempest
DESCRIPTION:Lübeck (sish) – Der Wahlpflichtkurs „English literature and conversation“ an der Emanuel-Geibel-Schule besucht am 23. Februar 2016 ein Gastspiel der American Drama Group in den Kammerspielen des Theaters Lübeck. Auf dem Programm steht „The Tempest“ nach William Shakespeare. Die Aufführung ist in englischer Sprache. Die Stiftung übernimmt einen Teil der Kosten für die Eintrittskarten.
URL:http://www.stiften-in-schleswig-holstein.de/termine/the-tempest
ORGANIZER;CN="Michael-Haukohl-Stiftung":MAILTO:info@haukohl.org
END:VEVENT
BEGIN:VEVENT
DTSTART;VALUE=DATE:20160223
DTEND;VALUE=DATE:20160226
DTSTAMP:20260421T233528
CREATED:20160222T155346Z
LAST-MODIFIED:20160222T155346Z
UID:893-1456185600-1456444799@www.stiften-in-schleswig-holstein.de
SUMMARY:Streitschlichter an der Schule an der Wakenitz
DESCRIPTION:Lübeck (sish) – Streitschlichter sind seit vielen Jahren eine wichtige Einrichtung an der Schule an der Wakenitz. Vom 23. bis 25. Februar 2016 fahren je 20 Schüler der Grund- und der Gemeinschaftsschule in das Umwelthaus nach Neustadt/Holstein\, um sich dort den letzten Schliff für ihre anschließende Tätigkeit als Streitschlichter zu holen. Die Ausbildungsfahrt beeinflusst die Gruppenfindung besonders positiv und schafft unter den Schülern ein gutes Zusammengehörigkeitsgefühl. Am Ende der Fahrt erhält jeder Streitschlichter seine Dienstkleidung (Shirt und Jacke)\, an der die Schüler für jeden Mitschüler und Lehrer erkennbar sind. Die Stiftung fördert das Projekt mit Euro 3.084.
URL:http://www.stiften-in-schleswig-holstein.de/termine/streitschlichter-an-der-schule-an-der-wakenitz
ORGANIZER;CN="Michael-Haukohl-Stiftung":MAILTO:info@haukohl.org
END:VEVENT
END:VCALENDAR