BEGIN:VCALENDAR
VERSION:2.0
PRODID:-//Stiften in Schleswig Holstein - ECPv6.15.17.1//NONSGML v1.0//EN
CALSCALE:GREGORIAN
METHOD:PUBLISH
X-WR-CALNAME:Stiften in Schleswig Holstein
X-ORIGINAL-URL:http://www.stiften-in-schleswig-holstein.de
X-WR-CALDESC:Veranstaltungen für Stiften in Schleswig Holstein
REFRESH-INTERVAL;VALUE=DURATION:PT1H
X-Robots-Tag:noindex
X-PUBLISHED-TTL:PT1H
BEGIN:VTIMEZONE
TZID:Europe/Berlin
BEGIN:DAYLIGHT
TZOFFSETFROM:+0100
TZOFFSETTO:+0200
TZNAME:CEST
DTSTART:20150329T010000
END:DAYLIGHT
BEGIN:STANDARD
TZOFFSETFROM:+0200
TZOFFSETTO:+0100
TZNAME:CET
DTSTART:20151025T010000
END:STANDARD
BEGIN:DAYLIGHT
TZOFFSETFROM:+0100
TZOFFSETTO:+0200
TZNAME:CEST
DTSTART:20160327T010000
END:DAYLIGHT
BEGIN:STANDARD
TZOFFSETFROM:+0200
TZOFFSETTO:+0100
TZNAME:CET
DTSTART:20161030T010000
END:STANDARD
BEGIN:DAYLIGHT
TZOFFSETFROM:+0100
TZOFFSETTO:+0200
TZNAME:CEST
DTSTART:20170326T010000
END:DAYLIGHT
BEGIN:STANDARD
TZOFFSETFROM:+0200
TZOFFSETTO:+0100
TZNAME:CET
DTSTART:20171029T010000
END:STANDARD
END:VTIMEZONE
BEGIN:VEVENT
DTSTART;VALUE=DATE:20161121
DTEND;VALUE=DATE:20161127
DTSTAMP:20260421T122337
CREATED:20161121T161820Z
LAST-MODIFIED:20161121T161820Z
UID:1295-1479686400-1480204799@www.stiften-in-schleswig-holstein.de
SUMMARY:Wege zur Kultur
DESCRIPTION:Lübeck (sish) – Das von der Michael-Haukohl-Stiftung initiierte Projekt „Wege zur Kultur“ soll Schüler der 3. und 4. Klassen an Kultur heranführen. Die Klassenlehrer können aus einem umfangreichen Angebot\, wie Besuchen in Museen\, Kirchen\, Kinderopern und Kinderkonzerten\, im Kinderliteraturhaus\, Künstleratelier Tiemo Schröder und im \,Archiv der Hansestadt Lübeck auswählen und die Besuche der Kultureinrichtungen über das ganze Schuljahr verteilen.  \nDie Michael-Haukohl-Stiftung übernimmt die Kosten für die Eintrittskarten und gegebenenfalls für die Führungen. Das Angebot richtet sich an alle Lübecker Grundschulen. Folgende Schulen haben sich im Schuljahr 2016 / 2017 bereits auf „Wege zur Kultur“ gemacht: Domschule\, Schule Falkenfeld\, Paul-Gerhardt-Schule\, Paul-Klee-Schule\, Julius-Leber-Schule\, Marienschule und die Schule an der Wakenitz.     
URL:http://www.stiften-in-schleswig-holstein.de/termine/wege-zur-kultur-3
ORGANIZER;CN="Michael-Haukohl-Stiftung":MAILTO:info@haukohl.org
END:VEVENT
END:VCALENDAR