BEGIN:VCALENDAR
VERSION:2.0
PRODID:-//Stiften in Schleswig Holstein - ECPv6.15.17.1//NONSGML v1.0//EN
CALSCALE:GREGORIAN
METHOD:PUBLISH
X-ORIGINAL-URL:http://www.stiften-in-schleswig-holstein.de
X-WR-CALDESC:Veranstaltungen für Stiften in Schleswig Holstein
REFRESH-INTERVAL;VALUE=DURATION:PT1H
X-Robots-Tag:noindex
X-PUBLISHED-TTL:PT1H
BEGIN:VTIMEZONE
TZID:Europe/Berlin
BEGIN:DAYLIGHT
TZOFFSETFROM:+0100
TZOFFSETTO:+0200
TZNAME:CEST
DTSTART:20150329T010000
END:DAYLIGHT
BEGIN:STANDARD
TZOFFSETFROM:+0200
TZOFFSETTO:+0100
TZNAME:CET
DTSTART:20151025T010000
END:STANDARD
BEGIN:DAYLIGHT
TZOFFSETFROM:+0100
TZOFFSETTO:+0200
TZNAME:CEST
DTSTART:20160327T010000
END:DAYLIGHT
BEGIN:STANDARD
TZOFFSETFROM:+0200
TZOFFSETTO:+0100
TZNAME:CET
DTSTART:20161030T010000
END:STANDARD
BEGIN:DAYLIGHT
TZOFFSETFROM:+0100
TZOFFSETTO:+0200
TZNAME:CEST
DTSTART:20170326T010000
END:DAYLIGHT
BEGIN:STANDARD
TZOFFSETFROM:+0200
TZOFFSETTO:+0100
TZNAME:CET
DTSTART:20171029T010000
END:STANDARD
END:VTIMEZONE
BEGIN:VEVENT
DTSTART;VALUE=DATE:20161031
DTEND;VALUE=DATE:20161105
DTSTAMP:20260421T122441
CREATED:20161031T143506Z
LAST-MODIFIED:20161031T143506Z
UID:1133-1477872000-1478303999@www.stiften-in-schleswig-holstein.de
SUMMARY:WenDo für Mädchen
DESCRIPTION:Lübeck (sish) – Sexuelle Übergriffe sind an der Tagesordnung. Die Mädchen des 8. Jahrgangs der Geschwister-Prenski-Schule hatten das Bedürfnis\, eindeutig Grenzen zu ziehen und sich zur Wehr setzen zu können. Die Michael-Haukohl-Stiftung hat daher im letzten Schuljahr einen WenDo-Kurs für eine Klasse gefördert. \nDie Mädchen äußerten sich anschließend ausnahmslos hoch zufrieden und formulierten detailliert ihren Zugewinn an Selbstbehauptung und Sicherheitsgefühl. Das Angebot ist deshalb in diesem Schuljahr auf alle vier 8. Klassen erweitert worden. Die Kurse beginnen am 31. Oktober 2016. Die Stiftung unterstützt die WenDo-Kurse mit Euro 2.400. Langfristig soll das Selbstbehauptungstraining fest in das Schulprogramm integriert werden.
URL:http://www.stiften-in-schleswig-holstein.de/termine/wendo-fuer-maedchen
END:VEVENT
BEGIN:VEVENT
DTSTART;VALUE=DATE:20161102
DTEND;VALUE=DATE:20161106
DTSTAMP:20260421T122441
CREATED:20161031T143655Z
LAST-MODIFIED:20161031T143655Z
UID:1135-1478044800-1478390399@www.stiften-in-schleswig-holstein.de
SUMMARY:Handy-Scouts
DESCRIPTION:Lübeck (sish) – Je vier Konfliktlotsen des 9. Jahrgangs der Ernestinenschule und des Katharineums fahren am 2. November 2016 für drei Tage in die Jugendakademie Bad Segeberg und werden dort zu Handy-Scouts ausgebildet. Anschließend gehen die Handy-Scouts in die 5. und 6. Klassen und arbeiten mit den Schülern am sichern Umgang mit ihren Handys. Die Michael-Haukohl-Stiftung fördert die Ausbildung mit Euro 1.600. \n 
URL:http://www.stiften-in-schleswig-holstein.de/termine/handy-scouts
ORGANIZER;CN="Michael-Haukohl-Stiftung":MAILTO:info@haukohl.org
END:VEVENT
END:VCALENDAR