BEGIN:VCALENDAR
VERSION:2.0
PRODID:-//Stiften in Schleswig Holstein - ECPv6.15.17.1//NONSGML v1.0//EN
CALSCALE:GREGORIAN
METHOD:PUBLISH
X-WR-CALNAME:Stiften in Schleswig Holstein
X-ORIGINAL-URL:http://www.stiften-in-schleswig-holstein.de
X-WR-CALDESC:Veranstaltungen für Stiften in Schleswig Holstein
REFRESH-INTERVAL;VALUE=DURATION:PT1H
X-Robots-Tag:noindex
X-PUBLISHED-TTL:PT1H
BEGIN:VTIMEZONE
TZID:Europe/Berlin
BEGIN:DAYLIGHT
TZOFFSETFROM:+0100
TZOFFSETTO:+0200
TZNAME:CEST
DTSTART:20150329T010000
END:DAYLIGHT
BEGIN:STANDARD
TZOFFSETFROM:+0200
TZOFFSETTO:+0100
TZNAME:CET
DTSTART:20151025T010000
END:STANDARD
BEGIN:DAYLIGHT
TZOFFSETFROM:+0100
TZOFFSETTO:+0200
TZNAME:CEST
DTSTART:20160327T010000
END:DAYLIGHT
BEGIN:STANDARD
TZOFFSETFROM:+0200
TZOFFSETTO:+0100
TZNAME:CET
DTSTART:20161030T010000
END:STANDARD
BEGIN:DAYLIGHT
TZOFFSETFROM:+0100
TZOFFSETTO:+0200
TZNAME:CEST
DTSTART:20170326T010000
END:DAYLIGHT
BEGIN:STANDARD
TZOFFSETFROM:+0200
TZOFFSETTO:+0100
TZNAME:CET
DTSTART:20171029T010000
END:STANDARD
END:VTIMEZONE
BEGIN:VEVENT
DTSTART;VALUE=DATE:20161012
DTEND;VALUE=DATE:20161013
DTSTAMP:20260421T135848
CREATED:20161010T161809Z
LAST-MODIFIED:20161010T161809Z
UID:1083-1476230400-1476316799@www.stiften-in-schleswig-holstein.de
SUMMARY:Leuphana: Zertifikatsverleihung
DESCRIPTION:34 Jugendliche von Lübecker Gemeinschaftsschulen haben die Sommerferien genutzt\, um ihre schulischen Leistungen zu verbessern und sich intensiv mit ihrer beruflichen Zukunft auseinanderzusetzen. Möglich machte das die dreiwöchige Leuphana Sommerakademie. Am 12. Oktober 2016 werden in der „Gemeinnützigen“ in Lübeck im Beisein der Familien\, Sponsoren und Vertretern der Schulen die Zertifikate an die Schülerinnen und Schüler überreicht. Die Lübecker Senatorin Kathrin Weiher wird ein Grußwort sprechen. \nZiel der Leuphana Sommerakademie ist es\, eine individuelle Berufsorientierung zu bieten und Kompetenzen zu stärken\, um den jungen Menschen bessere Chancen für ihren Übergang in das Arbeitsleben zu gewähren. Die Sommerakademie für Lübecker Schüler haben die Michael-Haukohl-Stiftung\, die Gemeinnützige Sparkassenstiftung zu Lübeck\,  die Margot und Jürgen Wessel Stiftung sowie die Agentur für Arbeit Lübeck ermöglicht. Dank dieses Engagements für den Nachwuchs der Region ist das Angebot\, das neben dem dreiwöchigen Sommercamp auch eine weitere intensive Begleitung im 9. Schuljahr umfasst\, für die Teilnehmer kostenlos. \nDie Jugendlichen haben während des Sommercamps intensiv an ihrem Berufswunsch\, ihrem Auftreten und ihren schulischen Schwächen gearbeitet. In Einzelgesprächen mit Vertretern der Lübecker Wirtschaft konnten sie wichtige Erfahrungen sammeln. Die Vorbereitung auf Bewerbungsverfahren und Berufseinstieg stärkte das Selbstvertrauen und brachte Klarheit in viele Zukunftspläne. Die veränderte Einstellung zum Lernen und zur Bedeutung des eigenen Engagements schlug sich in den Arbeitsergebnissen nieder: Die Lesefertigkeit der Gruppe verbesserte sich um etwas mehr als ein Schuljahr\, die Punktzahl im Mathe-Abschlusstest verdoppelte sich gegenüber dem Beginn.
URL:http://www.stiften-in-schleswig-holstein.de/termine/leuphana-zertifikatsverleihung
ORGANIZER;CN="Michael-Haukohl-Stiftung":MAILTO:info@haukohl.org
END:VEVENT
END:VCALENDAR