BEGIN:VCALENDAR
VERSION:2.0
PRODID:-//Stiften in Schleswig Holstein - ECPv6.15.17.1//NONSGML v1.0//EN
CALSCALE:GREGORIAN
METHOD:PUBLISH
X-WR-CALNAME:Stiften in Schleswig Holstein
X-ORIGINAL-URL:http://www.stiften-in-schleswig-holstein.de
X-WR-CALDESC:Veranstaltungen für Stiften in Schleswig Holstein
REFRESH-INTERVAL;VALUE=DURATION:PT1H
X-Robots-Tag:noindex
X-PUBLISHED-TTL:PT1H
BEGIN:VTIMEZONE
TZID:Europe/Berlin
BEGIN:DAYLIGHT
TZOFFSETFROM:+0100
TZOFFSETTO:+0200
TZNAME:CEST
DTSTART:20150329T010000
END:DAYLIGHT
BEGIN:STANDARD
TZOFFSETFROM:+0200
TZOFFSETTO:+0100
TZNAME:CET
DTSTART:20151025T010000
END:STANDARD
BEGIN:DAYLIGHT
TZOFFSETFROM:+0100
TZOFFSETTO:+0200
TZNAME:CEST
DTSTART:20160327T010000
END:DAYLIGHT
BEGIN:STANDARD
TZOFFSETFROM:+0200
TZOFFSETTO:+0100
TZNAME:CET
DTSTART:20161030T010000
END:STANDARD
BEGIN:DAYLIGHT
TZOFFSETFROM:+0100
TZOFFSETTO:+0200
TZNAME:CEST
DTSTART:20170326T010000
END:DAYLIGHT
BEGIN:STANDARD
TZOFFSETFROM:+0200
TZOFFSETTO:+0100
TZNAME:CET
DTSTART:20171029T010000
END:STANDARD
END:VTIMEZONE
BEGIN:VEVENT
DTSTART;TZID=Europe/Berlin:20161008T100000
DTEND;TZID=Europe/Berlin:20161008T160000
DTSTAMP:20260421T151031
CREATED:20161004T080607Z
LAST-MODIFIED:20161004T080607Z
UID:1073-1475920800-1475942400@www.stiften-in-schleswig-holstein.de
SUMMARY:SchülerAustausch-Messe in Ahrensburg
DESCRIPTION:
URL:http://www.stiften-in-schleswig-holstein.de/termine/schueleraustausch-messe-in-ahrensburg
LOCATION:Eric-Kandel-Gymnasium\, Reesenbüttler Redder 4-10\, Ahrensburg\, Schleswig-Holstein\, 22926\, Deutschland
ORGANIZER;CN="B%C3%BCrgerStiftung Region Ahrensburg":MAILTO:m.eckstein(at)buergerstiftung-region-ahrensburg.de
END:VEVENT
END:VCALENDAR