BEGIN:VCALENDAR
VERSION:2.0
PRODID:-//Stiften in Schleswig Holstein - ECPv6.15.17.1//NONSGML v1.0//EN
CALSCALE:GREGORIAN
METHOD:PUBLISH
X-WR-CALNAME:Stiften in Schleswig Holstein
X-ORIGINAL-URL:http://www.stiften-in-schleswig-holstein.de
X-WR-CALDESC:Veranstaltungen für Stiften in Schleswig Holstein
REFRESH-INTERVAL;VALUE=DURATION:PT1H
X-Robots-Tag:noindex
X-PUBLISHED-TTL:PT1H
BEGIN:VTIMEZONE
TZID:Europe/Berlin
BEGIN:DAYLIGHT
TZOFFSETFROM:+0100
TZOFFSETTO:+0200
TZNAME:CEST
DTSTART:20150329T010000
END:DAYLIGHT
BEGIN:STANDARD
TZOFFSETFROM:+0200
TZOFFSETTO:+0100
TZNAME:CET
DTSTART:20151025T010000
END:STANDARD
BEGIN:DAYLIGHT
TZOFFSETFROM:+0100
TZOFFSETTO:+0200
TZNAME:CEST
DTSTART:20160327T010000
END:DAYLIGHT
BEGIN:STANDARD
TZOFFSETFROM:+0200
TZOFFSETTO:+0100
TZNAME:CET
DTSTART:20161030T010000
END:STANDARD
BEGIN:DAYLIGHT
TZOFFSETFROM:+0100
TZOFFSETTO:+0200
TZNAME:CEST
DTSTART:20170326T010000
END:DAYLIGHT
BEGIN:STANDARD
TZOFFSETFROM:+0200
TZOFFSETTO:+0100
TZNAME:CET
DTSTART:20171029T010000
END:STANDARD
END:VTIMEZONE
BEGIN:VEVENT
DTSTART;VALUE=DATE:20160807
DTEND;VALUE=DATE:20160930
DTSTAMP:20260421T152806
CREATED:20160704T085609Z
LAST-MODIFIED:20160704T085609Z
UID:1009-1470528000-1475193599@www.stiften-in-schleswig-holstein.de
SUMMARY:Leuphana Sommerakademie 2016
DESCRIPTION:Lübeck (sish) – 46 Lübecker Schüler hatten sich für das Projekt „Leuphana Sommerakademie 2016“ beworben. Aus diesem Kreis hat die Leuphana Universität Lüneburg 35 Schüler ausgewählt und ihnen vor wenigen Tagen eine schriftliche Zusage geschickt. \nAußer der Willy-Brandt-Schule haben sich alle Lübecker Gemeinschaftsschulen an dem Projekt beteiligt. Die ausgewählten Schüler fahren vom 7. bis 29. August 2016 in das Sommercamp auf den Scheersberg bei Flensburg. Dort können die Schüler an ihren Schwächen in schulischen Fächern und an ihrem Auftreten arbeiten\, ihre Stärken entdecken sowie Bewerbungsgespräche üben und mit Lübecker Firmen führen. \nZiel des Projektes ist es\, die Schüler fit für die Ausbildung zu machen. Das Sommercamp und die anschließende intensive Nachbetreuung während des ganzen 9. Schuljahres verbessert die Zukunftsperspektive der Schüler\, verringert das Risiko von Arbeitslosigkeit und erhöht die Chancen auf eine Ausbildung direkt nach der Schule. Gefördert wird das Projekt von der Michael-Haukohl-Stiftung\, der Gemeinnützigen Sparkassenstiftung zu Lübeck\, der Margot und Jürgen Wessel Stiftung und der Agentur für Arbeit Lübeck.
URL:http://www.stiften-in-schleswig-holstein.de/termine/leuphana-sommerakademie-2016
ORGANIZER;CN="Michael-Haukohl-Stiftung":MAILTO:info@haukohl.org
END:VEVENT
END:VCALENDAR