BEGIN:VCALENDAR
VERSION:2.0
PRODID:-//Stiften in Schleswig Holstein - ECPv6.15.17.1//NONSGML v1.0//EN
CALSCALE:GREGORIAN
METHOD:PUBLISH
X-WR-CALNAME:Stiften in Schleswig Holstein
X-ORIGINAL-URL:http://www.stiften-in-schleswig-holstein.de
X-WR-CALDESC:Veranstaltungen für Stiften in Schleswig Holstein
REFRESH-INTERVAL;VALUE=DURATION:PT1H
X-Robots-Tag:noindex
X-PUBLISHED-TTL:PT1H
BEGIN:VTIMEZONE
TZID:Europe/Berlin
BEGIN:DAYLIGHT
TZOFFSETFROM:+0100
TZOFFSETTO:+0200
TZNAME:CEST
DTSTART:20150329T010000
END:DAYLIGHT
BEGIN:STANDARD
TZOFFSETFROM:+0200
TZOFFSETTO:+0100
TZNAME:CET
DTSTART:20151025T010000
END:STANDARD
BEGIN:DAYLIGHT
TZOFFSETFROM:+0100
TZOFFSETTO:+0200
TZNAME:CEST
DTSTART:20160327T010000
END:DAYLIGHT
BEGIN:STANDARD
TZOFFSETFROM:+0200
TZOFFSETTO:+0100
TZNAME:CET
DTSTART:20161030T010000
END:STANDARD
BEGIN:DAYLIGHT
TZOFFSETFROM:+0100
TZOFFSETTO:+0200
TZNAME:CEST
DTSTART:20170326T010000
END:DAYLIGHT
BEGIN:STANDARD
TZOFFSETFROM:+0200
TZOFFSETTO:+0100
TZNAME:CET
DTSTART:20171029T010000
END:STANDARD
END:VTIMEZONE
BEGIN:VEVENT
DTSTART;VALUE=DATE:20160703
DTEND;VALUE=DATE:20160809
DTSTAMP:20260421T180840
CREATED:20160627T094237Z
LAST-MODIFIED:20160627T094237Z
UID:1007-1467504000-1470700799@www.stiften-in-schleswig-holstein.de
SUMMARY:Schülerreise nach Prag
DESCRIPTION:Lübeck (sish) – Am Ende des 10. Schuljahres fährt die Klasse 10a der Schule an der Wakenitz vom 3. bis 8. Juli 2016 auf eigenen Wunsch nach Prag. Auf dem umfangreichen Programm stehen zwei Betriebsbesichtigungen zur Berufsvorbereitung\, Franz Kafka nach intensiver Vorbereitung im Unterricht und dem Besuch der Sonderausstellung im Buddenbrookhaus sowie das Schwarzlichttheater „Laterna Magika“ mit dem Stück „Romeo und Julia“ von William Shakespeare. Die Michael Haukohl-Stiftung fördert diese Reise.
URL:http://www.stiften-in-schleswig-holstein.de/termine/schuelerreise-nach-prag
ORGANIZER;CN="Michael-Haukohl-Stiftung":MAILTO:info@haukohl.org
END:VEVENT
BEGIN:VEVENT
DTSTART;VALUE=DATE:20160718
DTEND;VALUE=DATE:20160722
DTSTAMP:20260421T180840
CREATED:20160718T122940Z
LAST-MODIFIED:20160718T122940Z
UID:1015-1468800000-1469145599@www.stiften-in-schleswig-holstein.de
SUMMARY:Eltern auf Probe
DESCRIPTION:Lübeck (sish) – 14 Schüler der Schule Tremser Teich nehmen vom 18. bis 21. Juli 2016 an dem Projekt „Eltern auf Probe“ teil. Drei Tage tragen die Schüler ein Armband mit integriertem Chip um das Handgelenk\, das die Verbindung zum Baby herstellt. Das Baby ist ein Säuglingssimulator\, für dessen Versorgung die Schüler voll verantwortlich sind. Die Schüler haben 24 Stunden Rufbereitschaft. Die Babys melden Bedürfnisse wie Hunger\, nasse Windeln oder Müdigkeit\, die dann – ganz wie im realen Leben – befriedigt werden müssen. Lässt ein Schüler das Baby links liegen oder lässt es weinen\, wird das aufgezeichnet. Am Ende des Projektes werden die Chips ausgewertet. Die Michael Haukohl-Stiftung unterstützt das Projekt mit 500 Euro.
URL:http://www.stiften-in-schleswig-holstein.de/termine/eltern-auf-probe
ORGANIZER;CN="Michael-Haukohl-Stiftung":MAILTO:info@haukohl.org
END:VEVENT
END:VCALENDAR