BEGIN:VCALENDAR
VERSION:2.0
PRODID:-//Stiften in Schleswig Holstein - ECPv6.15.17.1//NONSGML v1.0//EN
CALSCALE:GREGORIAN
METHOD:PUBLISH
X-WR-CALNAME:Stiften in Schleswig Holstein
X-ORIGINAL-URL:http://www.stiften-in-schleswig-holstein.de
X-WR-CALDESC:Veranstaltungen für Stiften in Schleswig Holstein
REFRESH-INTERVAL;VALUE=DURATION:PT1H
X-Robots-Tag:noindex
X-PUBLISHED-TTL:PT1H
BEGIN:VTIMEZONE
TZID:Europe/Berlin
BEGIN:DAYLIGHT
TZOFFSETFROM:+0100
TZOFFSETTO:+0200
TZNAME:CEST
DTSTART:20150329T010000
END:DAYLIGHT
BEGIN:STANDARD
TZOFFSETFROM:+0200
TZOFFSETTO:+0100
TZNAME:CET
DTSTART:20151025T010000
END:STANDARD
BEGIN:DAYLIGHT
TZOFFSETFROM:+0100
TZOFFSETTO:+0200
TZNAME:CEST
DTSTART:20160327T010000
END:DAYLIGHT
BEGIN:STANDARD
TZOFFSETFROM:+0200
TZOFFSETTO:+0100
TZNAME:CET
DTSTART:20161030T010000
END:STANDARD
BEGIN:DAYLIGHT
TZOFFSETFROM:+0100
TZOFFSETTO:+0200
TZNAME:CEST
DTSTART:20170326T010000
END:DAYLIGHT
BEGIN:STANDARD
TZOFFSETFROM:+0200
TZOFFSETTO:+0100
TZNAME:CET
DTSTART:20171029T010000
END:STANDARD
END:VTIMEZONE
BEGIN:VEVENT
DTSTART;VALUE=DATE:20160629
DTEND;VALUE=DATE:20160630
DTSTAMP:20260421T180743
CREATED:20160627T093912Z
LAST-MODIFIED:20160627T093912Z
UID:1005-1467158400-1467244799@www.stiften-in-schleswig-holstein.de
SUMMARY:Erste Hilfe Kurs
DESCRIPTION:Lübeck (sish) – Alle Schüler der 9. Klassen der Schule an der Wakenitz besuchen in diesem Schuljahr erstmalig einen Kurs in Erster Hilfe. Die Schüler sollen damit noch weiter auf das berufliche Leben nach ihrem Ersten allgemeinbildenden Schulabschluss (ESA) vorbereitet werden. Darüber hinaus trägt diese Schulung zur Stärkung der Persönlichkeit bei und die Schüler können ihre erworbenen Fähigkeiten im privaten und beruflichen Bereich sinnvoll einbringen. Die Michael Haukohl-Stiftung unterstützt diesen Lehrgang.
URL:http://www.stiften-in-schleswig-holstein.de/termine/erste-hilfe-kurs
ORGANIZER;CN="Michael-Haukohl-Stiftung":MAILTO:info@haukohl.org
END:VEVENT
BEGIN:VEVENT
DTSTART;VALUE=DATE:20160629
DTEND;VALUE=DATE:20160630
DTSTAMP:20260421T180743
CREATED:20160627T094038Z
LAST-MODIFIED:20160627T094038Z
UID:1006-1467158400-1467244799@www.stiften-in-schleswig-holstein.de
SUMMARY:My Kingdom for a Cookie
DESCRIPTION:Lübeck (sish) – Am 29. Juni 2016 besuchen alle 60 Schüler des 5. Jahrgangs der Schule an der Wakenitz das englische Theaterstück „My Kingdom for a Cookie“ im Figurentheater Lübeck und nutzen das Angebot der theaterpädagogischen Vor- und Nachbereitung. Die Michael Haukohl-Stiftung unterstützt diesen Theaterbesuch.
URL:http://www.stiften-in-schleswig-holstein.de/termine/my-kingdom-for-a-cookie
ORGANIZER;CN="Michael-Haukohl-Stiftung":MAILTO:info@haukohl.org
END:VEVENT
END:VCALENDAR