BEGIN:VCALENDAR
VERSION:2.0
PRODID:-//Stiften in Schleswig Holstein - ECPv6.15.17.1//NONSGML v1.0//EN
CALSCALE:GREGORIAN
METHOD:PUBLISH
X-ORIGINAL-URL:http://www.stiften-in-schleswig-holstein.de
X-WR-CALDESC:Veranstaltungen für Stiften in Schleswig Holstein
REFRESH-INTERVAL;VALUE=DURATION:PT1H
X-Robots-Tag:noindex
X-PUBLISHED-TTL:PT1H
BEGIN:VTIMEZONE
TZID:Europe/Paris
BEGIN:DAYLIGHT
TZOFFSETFROM:+0100
TZOFFSETTO:+0200
TZNAME:CEST
DTSTART:20150329T010000
END:DAYLIGHT
BEGIN:STANDARD
TZOFFSETFROM:+0200
TZOFFSETTO:+0100
TZNAME:CET
DTSTART:20151025T010000
END:STANDARD
BEGIN:DAYLIGHT
TZOFFSETFROM:+0100
TZOFFSETTO:+0200
TZNAME:CEST
DTSTART:20160327T010000
END:DAYLIGHT
BEGIN:STANDARD
TZOFFSETFROM:+0200
TZOFFSETTO:+0100
TZNAME:CET
DTSTART:20161030T010000
END:STANDARD
BEGIN:DAYLIGHT
TZOFFSETFROM:+0100
TZOFFSETTO:+0200
TZNAME:CEST
DTSTART:20170326T010000
END:DAYLIGHT
BEGIN:STANDARD
TZOFFSETFROM:+0200
TZOFFSETTO:+0100
TZNAME:CET
DTSTART:20171029T010000
END:STANDARD
END:VTIMEZONE
BEGIN:VTIMEZONE
TZID:Europe/Berlin
BEGIN:DAYLIGHT
TZOFFSETFROM:+0100
TZOFFSETTO:+0200
TZNAME:CEST
DTSTART:20150329T010000
END:DAYLIGHT
BEGIN:STANDARD
TZOFFSETFROM:+0200
TZOFFSETTO:+0100
TZNAME:CET
DTSTART:20151025T010000
END:STANDARD
BEGIN:DAYLIGHT
TZOFFSETFROM:+0100
TZOFFSETTO:+0200
TZNAME:CEST
DTSTART:20160327T010000
END:DAYLIGHT
BEGIN:STANDARD
TZOFFSETFROM:+0200
TZOFFSETTO:+0100
TZNAME:CET
DTSTART:20161030T010000
END:STANDARD
BEGIN:DAYLIGHT
TZOFFSETFROM:+0100
TZOFFSETTO:+0200
TZNAME:CEST
DTSTART:20170326T010000
END:DAYLIGHT
BEGIN:STANDARD
TZOFFSETFROM:+0200
TZOFFSETTO:+0100
TZNAME:CET
DTSTART:20171029T010000
END:STANDARD
END:VTIMEZONE
BEGIN:VEVENT
DTSTART;VALUE=DATE:20160530
DTEND;VALUE=DATE:20160605
DTSTAMP:20260421T204352
CREATED:20160530T120549Z
LAST-MODIFIED:20160530T120558Z
UID:990-1464566400-1465084799@www.stiften-in-schleswig-holstein.de
SUMMARY:Munol (Model United Nations of Lübeck)
DESCRIPTION:Lübeck (sish) – Vom 30. Mai bis zum 4. Juni 2016 findet die 19. Munol (Model United Nations of Lübeck) statt. 450 interessierte\, weltoffene und engagierte Schüler aus ganz Europa\, Afrika und Asien nehmen an dem Simulationskongress teil\, der den Schülern die Arbeitsweise und die Ziele der Vereinten Nationen näher bringen soll. In Lübeck werden insbesondere der Sicherheitsrat und die sechs Komitees der Generalversammlung simuliert. Organisiert wird Munol von Schülern der Thomas-Mann-Schule. Die Michael-Haukohl-Stiftung unterstützt Munol zum wiederholten Mal mit Euro 750.
URL:http://www.stiften-in-schleswig-holstein.de/termine/munol-model-united-nations-of-luebeck
ORGANIZER;CN="Michael-Haukohl-Stiftung":MAILTO:info@haukohl.org
END:VEVENT
BEGIN:VEVENT
DTSTART;VALUE=DATE:20160531
DTEND;VALUE=DATE:20160601
DTSTAMP:20260421T204352
CREATED:20160530T120902Z
LAST-MODIFIED:20160530T120902Z
UID:991-1464652800-1464739199@www.stiften-in-schleswig-holstein.de
SUMMARY:DaZ (Deutsch als Zweitsprache)-Schüler spielen Theater
DESCRIPTION:Lübeck (sish) – 18 DaZ-Schüler zwischen elf und 17 Jahren aus Syrien\, Afghanistan\, Saudi-Arabien\, Armenien\, Serbien\, Russland\, Iran und Irak führen am 31. Mai 2016 nach intensiver Probenarbeit das Theaterstück „Das Glückskind und der Zauberer mit den drei goldenen Haaren“ in der Gemeinschaftsschule St. Jürgen auf. Alle Schüler stehen auf der Bühne. Nicht jeder Schüler hat eine Sprechrolle\, dafür aber dann mehr Körpereinsatz. Die Stiftung fördert das Integrationsprojekt mit Euro 2.500.
URL:http://www.stiften-in-schleswig-holstein.de/termine/daz-deutsch-als-zweitsprache-schueler-spielen-theater
ORGANIZER;CN="Michael-Haukohl-Stiftung":MAILTO:info@haukohl.org
END:VEVENT
END:VCALENDAR