BEGIN:VCALENDAR
VERSION:2.0
PRODID:-//Stiften in Schleswig Holstein - ECPv6.15.17.1//NONSGML v1.0//EN
CALSCALE:GREGORIAN
METHOD:PUBLISH
X-WR-CALNAME:Stiften in Schleswig Holstein
X-ORIGINAL-URL:http://www.stiften-in-schleswig-holstein.de
X-WR-CALDESC:Veranstaltungen für Stiften in Schleswig Holstein
REFRESH-INTERVAL;VALUE=DURATION:PT1H
X-Robots-Tag:noindex
X-PUBLISHED-TTL:PT1H
BEGIN:VTIMEZONE
TZID:Europe/Berlin
BEGIN:DAYLIGHT
TZOFFSETFROM:+0100
TZOFFSETTO:+0200
TZNAME:CEST
DTSTART:20150329T010000
END:DAYLIGHT
BEGIN:STANDARD
TZOFFSETFROM:+0200
TZOFFSETTO:+0100
TZNAME:CET
DTSTART:20151025T010000
END:STANDARD
BEGIN:DAYLIGHT
TZOFFSETFROM:+0100
TZOFFSETTO:+0200
TZNAME:CEST
DTSTART:20160327T010000
END:DAYLIGHT
BEGIN:STANDARD
TZOFFSETFROM:+0200
TZOFFSETTO:+0100
TZNAME:CET
DTSTART:20161030T010000
END:STANDARD
BEGIN:DAYLIGHT
TZOFFSETFROM:+0100
TZOFFSETTO:+0200
TZNAME:CEST
DTSTART:20170326T010000
END:DAYLIGHT
BEGIN:STANDARD
TZOFFSETFROM:+0200
TZOFFSETTO:+0100
TZNAME:CET
DTSTART:20171029T010000
END:STANDARD
END:VTIMEZONE
BEGIN:VEVENT
DTSTART;VALUE=DATE:20160526
DTEND;VALUE=DATE:20160527
DTSTAMP:20260421T204949
CREATED:20160524T074330Z
LAST-MODIFIED:20160524T074330Z
UID:962-1464220800-1464307199@www.stiften-in-schleswig-holstein.de
SUMMARY:Reise nach Polen
DESCRIPTION:Lübeck (sish) – Konrektor Bert-Jürgen Otto hat eine Partnerschaft zwischen der Emanuel-Geibel-Schule und der Schule in Buckowice/Polen initiiert. Am 26. Mai 2016 reisen 15 Schüler des 8. und 9. Jahrgangs zu einem ersten\, siebentägigen Besuch nach Polen. Dort werden die Schüler in Familien untergebracht. Höhepunkt des Besuchsprogramms wird die Besichtigung der Konzentrationslager Auschwitz und Birkenau sein. Der Gegenbesuch der polnischen Schüler in Lübeck ist für den Herbst 2016 vorgesehen. Die Michael-Haukohl-Stiftung fördert die Studienfahrt mit Euro 2.000.
URL:http://www.stiften-in-schleswig-holstein.de/termine/reise-nach-polen
ORGANIZER;CN="Michael-Haukohl-Stiftung":MAILTO:info@haukohl.org
END:VEVENT
END:VCALENDAR