BEGIN:VCALENDAR
VERSION:2.0
PRODID:-//Stiften in Schleswig Holstein - ECPv6.15.17.1//NONSGML v1.0//EN
CALSCALE:GREGORIAN
METHOD:PUBLISH
X-ORIGINAL-URL:http://www.stiften-in-schleswig-holstein.de
X-WR-CALDESC:Veranstaltungen für Stiften in Schleswig Holstein
REFRESH-INTERVAL;VALUE=DURATION:PT1H
X-Robots-Tag:noindex
X-PUBLISHED-TTL:PT1H
BEGIN:VTIMEZONE
TZID:Europe/Berlin
BEGIN:DAYLIGHT
TZOFFSETFROM:+0100
TZOFFSETTO:+0200
TZNAME:CEST
DTSTART:20150329T010000
END:DAYLIGHT
BEGIN:STANDARD
TZOFFSETFROM:+0200
TZOFFSETTO:+0100
TZNAME:CET
DTSTART:20151025T010000
END:STANDARD
BEGIN:DAYLIGHT
TZOFFSETFROM:+0100
TZOFFSETTO:+0200
TZNAME:CEST
DTSTART:20160327T010000
END:DAYLIGHT
BEGIN:STANDARD
TZOFFSETFROM:+0200
TZOFFSETTO:+0100
TZNAME:CET
DTSTART:20161030T010000
END:STANDARD
BEGIN:DAYLIGHT
TZOFFSETFROM:+0100
TZOFFSETTO:+0200
TZNAME:CEST
DTSTART:20170326T010000
END:DAYLIGHT
BEGIN:STANDARD
TZOFFSETFROM:+0200
TZOFFSETTO:+0100
TZNAME:CET
DTSTART:20171029T010000
END:STANDARD
END:VTIMEZONE
BEGIN:VEVENT
DTSTART;VALUE=DATE:20160520
DTEND;VALUE=DATE:20160521
DTSTAMP:20260421T204258
CREATED:20160517T150049Z
LAST-MODIFIED:20160517T150049Z
UID:950-1463702400-1463788799@www.stiften-in-schleswig-holstein.de
SUMMARY:Fahrt nach London
DESCRIPTION:23 Schüler des 11. Jahrgangs (sprachlich-ästhetisches Profil) des Katharineums fahren vom 20. bis 27. Mai 2016 nach London. Auf dem Programm stehen u.a. Besuche des Musicals „Stomp“ im Ambassador Theatre\, der Oper „Madame Butterfly“ im Coliseum\, einer Back Stage Führung durch die Royal Covent Garden Opera und der Besuch des Ballets „Frankenstein“ im Royal Opera House. Die Stiftung unterstützt die Studienfahrt mit Euro 1.623.
URL:http://www.stiften-in-schleswig-holstein.de/termine/fahrt-nach-london-2
ORGANIZER;CN="Michael-Haukohl-Stiftung":MAILTO:info@haukohl.org
END:VEVENT
END:VCALENDAR