BEGIN:VCALENDAR
VERSION:2.0
PRODID:-//Stiften in Schleswig Holstein - ECPv6.15.17.1//NONSGML v1.0//EN
CALSCALE:GREGORIAN
METHOD:PUBLISH
X-ORIGINAL-URL:http://www.stiften-in-schleswig-holstein.de
X-WR-CALDESC:Veranstaltungen für Stiften in Schleswig Holstein
REFRESH-INTERVAL;VALUE=DURATION:PT1H
X-Robots-Tag:noindex
X-PUBLISHED-TTL:PT1H
BEGIN:VTIMEZONE
TZID:Europe/Helsinki
BEGIN:DAYLIGHT
TZOFFSETFROM:+0200
TZOFFSETTO:+0300
TZNAME:EEST
DTSTART:20150329T010000
END:DAYLIGHT
BEGIN:STANDARD
TZOFFSETFROM:+0300
TZOFFSETTO:+0200
TZNAME:EET
DTSTART:20151025T010000
END:STANDARD
BEGIN:DAYLIGHT
TZOFFSETFROM:+0200
TZOFFSETTO:+0300
TZNAME:EEST
DTSTART:20160327T010000
END:DAYLIGHT
BEGIN:STANDARD
TZOFFSETFROM:+0300
TZOFFSETTO:+0200
TZNAME:EET
DTSTART:20161030T010000
END:STANDARD
BEGIN:DAYLIGHT
TZOFFSETFROM:+0200
TZOFFSETTO:+0300
TZNAME:EEST
DTSTART:20170326T010000
END:DAYLIGHT
BEGIN:STANDARD
TZOFFSETFROM:+0300
TZOFFSETTO:+0200
TZNAME:EET
DTSTART:20171029T010000
END:STANDARD
END:VTIMEZONE
BEGIN:VEVENT
DTSTART;VALUE=DATE:20160519
DTEND;VALUE=DATE:20160520
DTSTAMP:20260421T204351
CREATED:20160122T131431Z
LAST-MODIFIED:20160122T133752Z
UID:804-1463616000-1463702399@www.stiften-in-schleswig-holstein.de
SUMMARY:Weiterbildung: Die Stiftungsgeschäftsführung
DESCRIPTION:Die Geschäftsführung einer Stiftung ist in einem hohen Maß an Verantwortung und einer Vielzahl von Aufgaben verbunden. In einem zunehmend schwierigeren wirtschaftlichen Umfeld wird die Stiftungsgeschäftsführung komplexer und risikobehafteter; zudem werden Stiftungen vielfach mit unrealistischen Erwartungen konfrontiert\, zu denen sich die Geschäftsführungen positionieren müssen. \nDiese Weiterbildungsveranstaltung beleuchtet wesentliche Aspekte der Stiftungsgeschäftsführung für die Praxis. Referent ist Rechtsanwalt und Steuerberater Thomas von Holt\, Bonn. Die Tagungsleitung hat Bernd Hannemann vom Diakonischen Werk Schleswig-Holstein. Details und Kontakte zur Anmeldung werden zeitgerecht auf stiften-in-schleswig-holstein.de veröffentlicht.
URL:http://www.stiften-in-schleswig-holstein.de/termine/die-stiftungsgeschaeftsfuehrung
LOCATION:Diakonisches Werk Schleswig-Holstein\, Kanalufer 48\, Rendsburg\, Schleswig-Holstein\, 24768\, Deutschland
ORGANIZER;CN="Diakonisches Werk Schleswig-Holstein":MAILTO:info@diakonie-sh.de
END:VEVENT
END:VCALENDAR