BEGIN:VCALENDAR
VERSION:2.0
PRODID:-//Stiften in Schleswig Holstein - ECPv6.15.17.1//NONSGML v1.0//EN
CALSCALE:GREGORIAN
METHOD:PUBLISH
X-ORIGINAL-URL:http://www.stiften-in-schleswig-holstein.de
X-WR-CALDESC:Veranstaltungen für Stiften in Schleswig Holstein
REFRESH-INTERVAL;VALUE=DURATION:PT1H
X-Robots-Tag:noindex
X-PUBLISHED-TTL:PT1H
BEGIN:VTIMEZONE
TZID:Europe/Paris
BEGIN:DAYLIGHT
TZOFFSETFROM:+0100
TZOFFSETTO:+0200
TZNAME:CEST
DTSTART:20150329T010000
END:DAYLIGHT
BEGIN:STANDARD
TZOFFSETFROM:+0200
TZOFFSETTO:+0100
TZNAME:CET
DTSTART:20151025T010000
END:STANDARD
BEGIN:DAYLIGHT
TZOFFSETFROM:+0100
TZOFFSETTO:+0200
TZNAME:CEST
DTSTART:20160327T010000
END:DAYLIGHT
BEGIN:STANDARD
TZOFFSETFROM:+0200
TZOFFSETTO:+0100
TZNAME:CET
DTSTART:20161030T010000
END:STANDARD
BEGIN:DAYLIGHT
TZOFFSETFROM:+0100
TZOFFSETTO:+0200
TZNAME:CEST
DTSTART:20170326T010000
END:DAYLIGHT
BEGIN:STANDARD
TZOFFSETFROM:+0200
TZOFFSETTO:+0100
TZNAME:CET
DTSTART:20171029T010000
END:STANDARD
END:VTIMEZONE
BEGIN:VEVENT
DTSTART;VALUE=DATE:20160502
DTEND;VALUE=DATE:20160503
DTSTAMP:20260421T205440
CREATED:20160502T163952Z
LAST-MODIFIED:20160502T163952Z
UID:937-1462147200-1462233599@www.stiften-in-schleswig-holstein.de
SUMMARY:WenDo-Kurs für Mädchen
DESCRIPTION:Lübeck (sish) – In einer 8. Klasse einer Lübecker Schule ist es zu sexuellen Übergriffen gekommen\, die die Klassenleitung gesprächstaktisch und disziplinarisch aufgearbeitet hat. Die Mädchen haben dennoch das Bedürfnis geäußert\, sich zur Wehr setzen und eindeutig Grenzen ziehen zu können. Die Klassenleitung hat daher kurzfristig eine Trainerin ausfindig gemacht\, die für die betroffenen Mädchen einen WenDo-Kurs anbietet\, der bis zum Ende des Schuljahres läuft. Danach sollen die Erfahrungen mit dem Kurs evaluiert werden. Die Michael-Haukohl-Stiftung bezuschusst den Kurs mit Euro 350.
URL:http://www.stiften-in-schleswig-holstein.de/termine/wendo-kurs-fuer-maedchen
ORGANIZER;CN="Michael-Haukohl-Stiftung":MAILTO:info@haukohl.org
END:VEVENT
END:VCALENDAR