BEGIN:VCALENDAR
VERSION:2.0
PRODID:-//Stiften in Schleswig Holstein - ECPv6.15.17.1//NONSGML v1.0//EN
CALSCALE:GREGORIAN
METHOD:PUBLISH
X-ORIGINAL-URL:http://www.stiften-in-schleswig-holstein.de
X-WR-CALDESC:Veranstaltungen für Stiften in Schleswig Holstein
REFRESH-INTERVAL;VALUE=DURATION:PT1H
X-Robots-Tag:noindex
X-PUBLISHED-TTL:PT1H
BEGIN:VTIMEZONE
TZID:Europe/Paris
BEGIN:DAYLIGHT
TZOFFSETFROM:+0100
TZOFFSETTO:+0200
TZNAME:CEST
DTSTART:20150329T010000
END:DAYLIGHT
BEGIN:STANDARD
TZOFFSETFROM:+0200
TZOFFSETTO:+0100
TZNAME:CET
DTSTART:20151025T010000
END:STANDARD
BEGIN:DAYLIGHT
TZOFFSETFROM:+0100
TZOFFSETTO:+0200
TZNAME:CEST
DTSTART:20160327T010000
END:DAYLIGHT
BEGIN:STANDARD
TZOFFSETFROM:+0200
TZOFFSETTO:+0100
TZNAME:CET
DTSTART:20161030T010000
END:STANDARD
BEGIN:DAYLIGHT
TZOFFSETFROM:+0100
TZOFFSETTO:+0200
TZNAME:CEST
DTSTART:20170326T010000
END:DAYLIGHT
BEGIN:STANDARD
TZOFFSETFROM:+0200
TZOFFSETTO:+0100
TZNAME:CET
DTSTART:20171029T010000
END:STANDARD
END:VTIMEZONE
BEGIN:VEVENT
DTSTART;VALUE=DATE:20160126
DTEND;VALUE=DATE:20160320
DTSTAMP:20260422T005459
CREATED:20160127T181847Z
LAST-MODIFIED:20160222T155125Z
UID:830-1453766400-1458431999@www.stiften-in-schleswig-holstein.de
SUMMARY:AG Musiktheater
DESCRIPTION:Lübeck (sish) – Am 26. Januar 2016 startet die AG Musiktheater an der GGS St. Jürgen mit der Behandlung des Musicals „West Side Story“ von Leonard Bernstein. Die AG-Leiterin Frau Anne-Kristin Blöß und der freie Regisseur und Schauspieler Sascha Mink werden die Schüler des 10. und 11 Jahrgangs in mehreren Einheiten an das Musikstück heranführen\, ihnen Choreographie und Gesang durch Gastreferenten nahebringen und die Aufführung im Theater Lübeck am 19. März 2016 besuchen. Danach folgt die Behandlung der Oper „Lady Macbeth vom Mzensk“ von Dmitri Schostakowitsch. Die Stiftung fördert die AG mit Euro 4.350.
URL:http://www.stiften-in-schleswig-holstein.de/termine/michael-haukohl-stiftung-ag-musiktheater
ORGANIZER;CN="Michael-Haukohl-Stiftung":MAILTO:info@haukohl.org
END:VEVENT
BEGIN:VEVENT
DTSTART;VALUE=DATE:20160201
DTEND;VALUE=DATE:20160301
DTSTAMP:20260422T005459
CREATED:20160201T090722Z
LAST-MODIFIED:20160201T090722Z
UID:850-1454284800-1456790399@www.stiften-in-schleswig-holstein.de
SUMMARY:Michael-Haukohl-Stiftung: Jahresbericht 2015
DESCRIPTION:Der Jahresbericht 2015 steht auf dieser Webseite in der Rubrik „Downloads“ und kann dort heruntergeladen werden: Link
URL:http://www.stiften-in-schleswig-holstein.de/termine/michael-haukohl-stiftung-jahresbericht-2015
END:VEVENT
BEGIN:VEVENT
DTSTART;VALUE=DATE:20160204
DTEND;VALUE=DATE:20160205
DTSTAMP:20260422T005459
CREATED:20160201T090913Z
LAST-MODIFIED:20160201T090913Z
UID:851-1454544000-1454630399@www.stiften-in-schleswig-holstein.de
SUMMARY:Michael-Haukohl-Stiftung: BallinStadt – Das Auswanderermuseum
DESCRIPTION:Lübeck (sish) – Die Klasse 9a der Schule an der Wakenitz hat sich intensiv mit der Auswanderungsbewegung im 19. Jahrhundert auseinandergesetzt und dabei immer wieder Bezüge zur aktuellen Flüchtlingssituation im Stadtteil Eichholz hergestellt. Zum Abschluss fahren die Schüler nach Hamburg in das Erlebnismuseum BallinStadt und nehmen dort im Rahmen des Spiels „Simmigrants“ eine virtuelle Auswandereridentität ein\, um sich so die Inhalte der Ausstellung zu erarbeiten. Die Michael-Haukohl-Stiftung übernimmt einen Teil der Fahrt- und Eintrittskosten.
URL:http://www.stiften-in-schleswig-holstein.de/termine/michael-haukohl-stiftung-ballinstadt-das-auswanderermuseum
END:VEVENT
END:VCALENDAR