BEGIN:VCALENDAR
VERSION:2.0
PRODID:-//Stiften in Schleswig Holstein - ECPv6.15.17.1//NONSGML v1.0//EN
CALSCALE:GREGORIAN
METHOD:PUBLISH
X-ORIGINAL-URL:http://www.stiften-in-schleswig-holstein.de
X-WR-CALDESC:Veranstaltungen für Stiften in Schleswig Holstein
REFRESH-INTERVAL;VALUE=DURATION:PT1H
X-Robots-Tag:noindex
X-PUBLISHED-TTL:PT1H
BEGIN:VTIMEZONE
TZID:Europe/Paris
BEGIN:DAYLIGHT
TZOFFSETFROM:+0100
TZOFFSETTO:+0200
TZNAME:CEST
DTSTART:20150329T010000
END:DAYLIGHT
BEGIN:STANDARD
TZOFFSETFROM:+0200
TZOFFSETTO:+0100
TZNAME:CET
DTSTART:20151025T010000
END:STANDARD
BEGIN:DAYLIGHT
TZOFFSETFROM:+0100
TZOFFSETTO:+0200
TZNAME:CEST
DTSTART:20160327T010000
END:DAYLIGHT
BEGIN:STANDARD
TZOFFSETFROM:+0200
TZOFFSETTO:+0100
TZNAME:CET
DTSTART:20161030T010000
END:STANDARD
BEGIN:DAYLIGHT
TZOFFSETFROM:+0100
TZOFFSETTO:+0200
TZNAME:CEST
DTSTART:20170326T010000
END:DAYLIGHT
BEGIN:STANDARD
TZOFFSETFROM:+0200
TZOFFSETTO:+0100
TZNAME:CET
DTSTART:20171029T010000
END:STANDARD
END:VTIMEZONE
BEGIN:VEVENT
DTSTART;VALUE=DATE:20160121
DTEND;VALUE=DATE:20160126
DTSTAMP:20260422T022829
CREATED:20160127T181701Z
LAST-MODIFIED:20160127T181736Z
UID:829-1453334400-1453766399@www.stiften-in-schleswig-holstein.de
SUMMARY:Michael-Haukohl-Stiftung: Woche der Toleranz
DESCRIPTION:Lübeck (sish) – Die Gotthard-Kühl-Schule ist eine Schule in einem schwierigen Stadtteil Lübecks. An ihr sind 46 Herkunftssprachen vertreten. Zur Schule gehören DaZ-Zentren an der Grund- und der Gemeinschaftsschule. Die Schüler beschimpfen und beleidigen sich und gehen gewaltbereit mit Konflikten um. Die Schule wünscht sich ein Miteinander\, das geprägt ist von Werten\, die ein humanes und demokratisches Selbstbild wiederspiegeln. Dazu soll die „Woche der Toleranz“ vom 21. bis 25. Januar 2016 mit einem umfangreichen Programm beitragen\, an der alle 284 Schüler der Grundschule teilnehmen. Die Michael-Haukohl-Stiftung unterstützt das Projekt mit Euro 2.000.
URL:http://www.stiften-in-schleswig-holstein.de/termine/michael-haukohl-stiftung-woche-der-toleranz
ORGANIZER;CN="Michael-Haukohl-Stiftung":MAILTO:info@haukohl.org
END:VEVENT
BEGIN:VEVENT
DTSTART;VALUE=DATE:20160124
DTEND;VALUE=DATE:20160131
DTSTAMP:20260422T022829
CREATED:20160121T084647Z
LAST-MODIFIED:20160121T084647Z
UID:791-1453593600-1454198399@www.stiften-in-schleswig-holstein.de
SUMMARY:Michael-Haukohl-Stiftung: THIMUN-Konferenz in Den Haag
DESCRIPTION:Lübeck/Den Haag (sish) – MUN steht für Model United Nations und bezeichnet englischsprachige Konferenzen\, auf der Schüler die Arbeit der Vereinten Nationen (UN) nachstellen. Eine Delegation von 14 Schülern der Thomas-Mann-Schule nimmt an der Konferenz in Den Haag teil\, die sich vom 24. bis 30. Januar 2016 mit dem Thema der Zukunftsfähigkeit unserer Städte beschäftigen wird. Die Michael-Haukohl-Stiftung fördert die Beteiligung einer Lübecker Delegation seit 2004\, dieses Jahr mit Euro 750.
URL:http://www.stiften-in-schleswig-holstein.de/termine/michael-haukohl-stiftung-thimun-konferenz-in-den-haag
ORGANIZER;CN="Michael-Haukohl-Stiftung":MAILTO:info@haukohl.org
END:VEVENT
END:VCALENDAR