BEGIN:VCALENDAR
VERSION:2.0
PRODID:-//Stiften in Schleswig Holstein - ECPv6.15.17.1//NONSGML v1.0//EN
CALSCALE:GREGORIAN
METHOD:PUBLISH
X-WR-CALNAME:Stiften in Schleswig Holstein
X-ORIGINAL-URL:http://www.stiften-in-schleswig-holstein.de
X-WR-CALDESC:Veranstaltungen für Stiften in Schleswig Holstein
REFRESH-INTERVAL;VALUE=DURATION:PT1H
X-Robots-Tag:noindex
X-PUBLISHED-TTL:PT1H
BEGIN:VTIMEZONE
TZID:Europe/Paris
BEGIN:DAYLIGHT
TZOFFSETFROM:+0100
TZOFFSETTO:+0200
TZNAME:CEST
DTSTART:20150329T010000
END:DAYLIGHT
BEGIN:STANDARD
TZOFFSETFROM:+0200
TZOFFSETTO:+0100
TZNAME:CET
DTSTART:20151025T010000
END:STANDARD
BEGIN:DAYLIGHT
TZOFFSETFROM:+0100
TZOFFSETTO:+0200
TZNAME:CEST
DTSTART:20160327T010000
END:DAYLIGHT
BEGIN:STANDARD
TZOFFSETFROM:+0200
TZOFFSETTO:+0100
TZNAME:CET
DTSTART:20161030T010000
END:STANDARD
BEGIN:DAYLIGHT
TZOFFSETFROM:+0100
TZOFFSETTO:+0200
TZNAME:CEST
DTSTART:20170326T010000
END:DAYLIGHT
BEGIN:STANDARD
TZOFFSETFROM:+0200
TZOFFSETTO:+0100
TZNAME:CET
DTSTART:20171029T010000
END:STANDARD
END:VTIMEZONE
BEGIN:VEVENT
DTSTART;VALUE=DATE:20160120
DTEND;VALUE=DATE:20160121
DTSTAMP:20260422T022504
CREATED:20160120T154500Z
LAST-MODIFIED:20160120T154500Z
UID:781-1453248000-1453334399@www.stiften-in-schleswig-holstein.de
SUMMARY:Michael-Haukohl-Stiftung: Zertifikat in Business Englisch und Französisch
DESCRIPTION:Lübeck (sish) – Schüler der GGS St. Jürgen und der Emanuel-Geibel-Schule haben freiwillig an zusätzlichen Unterrichtsstunden in Business Englisch bzw. in Französisch teilgenommen. Jetzt legen sie eine Prüfung ab\, um eine Zertifikat zu erwerben\, das ihre Chancen auf einen Ausbildungsplatz erhöht. Die Michael-Haukohl-Stiftung übernimmt einen Teil der Prüfungsgebühren.
URL:http://www.stiften-in-schleswig-holstein.de/termine/michael-haukohl-stiftung-zertifikat-in-business-englisch-und-franzoesisch
END:VEVENT
END:VCALENDAR